BEGIN:VCALENDAR
VERSION:2.0
PRODID:-//Logy Bay - Middle Cove - Outer Cove - ECPv6.15.19//NONSGML v1.0//EN
CALSCALE:GREGORIAN
METHOD:PUBLISH
X-ORIGINAL-URL:https://lbmcoc.ca
X-WR-CALDESC:Events for Logy Bay - Middle Cove - Outer Cove
REFRESH-INTERVAL;VALUE=DURATION:PT1H
X-Robots-Tag:noindex
X-PUBLISHED-TTL:PT1H
BEGIN:VTIMEZONE
TZID:America/St_Johns
BEGIN:DAYLIGHT
TZOFFSETFROM:-0330
TZOFFSETTO:-0230
TZNAME:NDT
DTSTART:20250309T053000
END:DAYLIGHT
BEGIN:STANDARD
TZOFFSETFROM:-0230
TZOFFSETTO:-0330
TZNAME:NST
DTSTART:20251102T043000
END:STANDARD
BEGIN:DAYLIGHT
TZOFFSETFROM:-0330
TZOFFSETTO:-0230
TZNAME:NDT
DTSTART:20260308T053000
END:DAYLIGHT
BEGIN:STANDARD
TZOFFSETFROM:-0230
TZOFFSETTO:-0330
TZNAME:NST
DTSTART:20261101T043000
END:STANDARD
BEGIN:DAYLIGHT
TZOFFSETFROM:-0330
TZOFFSETTO:-0230
TZNAME:NDT
DTSTART:20270314T053000
END:DAYLIGHT
BEGIN:STANDARD
TZOFFSETFROM:-0230
TZOFFSETTO:-0330
TZNAME:NST
DTSTART:20271107T043000
END:STANDARD
END:VTIMEZONE
BEGIN:VEVENT
DTSTART;TZID=America/St_Johns:20260502T080000
DTEND;TZID=America/St_Johns:20260502T170000
DTSTAMP:20260423T113910
CREATED:20260417T133740Z
LAST-MODIFIED:20260417T133740Z
UID:10005496-1777708800-1777741200@lbmcoc.ca
SUMMARY:Fire Smart Event
DESCRIPTION:
URL:https://lbmcoc.ca/event/fire-smart-event/
LOCATION:Kelly Park\, 108 Outer Cove Road\, Outer Cove\, Newfoundland and Labrador\, A1K4E2\, Canada
END:VEVENT
BEGIN:VEVENT
DTSTART;TZID=America/St_Johns:20260502T100000
DTEND;TZID=America/St_Johns:20260502T110000
DTSTAMP:20260423T113910
CREATED:20260331T140035Z
LAST-MODIFIED:20260331T140743Z
UID:10005473-1777716000-1777719600@lbmcoc.ca
SUMMARY:Body Flow
DESCRIPTION:
URL:https://lbmcoc.ca/event/body-flow/2026-05-02/
LOCATION:Justina Centre\, 108 Outer Cove Rd\, Outer Cove\, NL\, A1K 4E1
END:VEVENT
BEGIN:VEVENT
DTSTART;TZID=America/St_Johns:20260502T180000
DTEND;TZID=America/St_Johns:20260502T200000
DTSTAMP:20260423T113910
CREATED:20260417T134027Z
LAST-MODIFIED:20260417T134027Z
UID:10005498-1777744800-1777752000@lbmcoc.ca
SUMMARY:Mothers Day Wine Dinner
DESCRIPTION:
URL:https://lbmcoc.ca/event/mothers-day-wine-dinner/
LOCATION:Justina Centre\, 108 Outer Cove Rd\, Outer Cove\, NL\, A1K 4E1
END:VEVENT
END:VCALENDAR