BEGIN:VCALENDAR
VERSION:2.0
PRODID:-//Logy Bay - Middle Cove - Outer Cove - ECPv6.15.19//NONSGML v1.0//EN
CALSCALE:GREGORIAN
METHOD:PUBLISH
X-WR-CALNAME:Logy Bay - Middle Cove - Outer Cove
X-ORIGINAL-URL:https://lbmcoc.ca
X-WR-CALDESC:Events for Logy Bay - Middle Cove - Outer Cove
REFRESH-INTERVAL;VALUE=DURATION:PT1H
X-Robots-Tag:noindex
X-PUBLISHED-TTL:PT1H
BEGIN:VTIMEZONE
TZID:America/St_Johns
BEGIN:DAYLIGHT
TZOFFSETFROM:-0330
TZOFFSETTO:-0230
TZNAME:NDT
DTSTART:20250309T053000
END:DAYLIGHT
BEGIN:STANDARD
TZOFFSETFROM:-0230
TZOFFSETTO:-0330
TZNAME:NST
DTSTART:20251102T043000
END:STANDARD
BEGIN:DAYLIGHT
TZOFFSETFROM:-0330
TZOFFSETTO:-0230
TZNAME:NDT
DTSTART:20260308T053000
END:DAYLIGHT
BEGIN:STANDARD
TZOFFSETFROM:-0230
TZOFFSETTO:-0330
TZNAME:NST
DTSTART:20261101T043000
END:STANDARD
BEGIN:DAYLIGHT
TZOFFSETFROM:-0330
TZOFFSETTO:-0230
TZNAME:NDT
DTSTART:20270314T053000
END:DAYLIGHT
BEGIN:STANDARD
TZOFFSETFROM:-0230
TZOFFSETTO:-0330
TZNAME:NST
DTSTART:20271107T043000
END:STANDARD
BEGIN:DAYLIGHT
TZOFFSETFROM:-0330
TZOFFSETTO:-0230
TZNAME:NDT
DTSTART:20280312T053000
END:DAYLIGHT
BEGIN:STANDARD
TZOFFSETFROM:-0230
TZOFFSETTO:-0330
TZNAME:NST
DTSTART:20281105T043000
END:STANDARD
END:VTIMEZONE
BEGIN:VEVENT
DTSTART;TZID=America/St_Johns:20261201T093000
DTEND;TZID=America/St_Johns:20261201T103000
DTSTAMP:20260424T084456
CREATED:20260331T135613Z
LAST-MODIFIED:20260331T135613Z
UID:10005382-1796117400-1796121000@lbmcoc.ca
SUMMARY:Yoga
DESCRIPTION:
URL:https://lbmcoc.ca/event/yoga/2026-12-01/
END:VEVENT
BEGIN:VEVENT
DTSTART;TZID=America/St_Johns:20261203T093000
DTEND;TZID=America/St_Johns:20261203T103000
DTSTAMP:20260424T084456
CREATED:20260331T135710Z
LAST-MODIFIED:20260331T135710Z
UID:10005440-1796290200-1796293800@lbmcoc.ca
SUMMARY:Yoga
DESCRIPTION:
URL:https://lbmcoc.ca/event/yoga-2/2026-12-03/
END:VEVENT
BEGIN:VEVENT
DTSTART;TZID=America/St_Johns:20261207T093000
DTEND;TZID=America/St_Johns:20261207T103000
DTSTAMP:20260424T084456
CREATED:20260331T135417Z
LAST-MODIFIED:20260331T135417Z
UID:10005325-1796635800-1796639400@lbmcoc.ca
SUMMARY:Fun & Fit
DESCRIPTION:
URL:https://lbmcoc.ca/event/fun-fit/2026-12-07/
LOCATION:Justina Centre\, 108 Outer Cove Rd\, Outer Cove\, NL\, A1K 4E1
END:VEVENT
BEGIN:VEVENT
DTSTART;TZID=America/St_Johns:20261208T093000
DTEND;TZID=America/St_Johns:20261208T103000
DTSTAMP:20260424T084456
CREATED:20260331T135613Z
LAST-MODIFIED:20260331T135613Z
UID:10005383-1796722200-1796725800@lbmcoc.ca
SUMMARY:Yoga
DESCRIPTION:
URL:https://lbmcoc.ca/event/yoga/2026-12-08/
END:VEVENT
BEGIN:VEVENT
DTSTART;TZID=America/St_Johns:20261210T093000
DTEND;TZID=America/St_Johns:20261210T103000
DTSTAMP:20260424T084456
CREATED:20260331T135710Z
LAST-MODIFIED:20260331T135710Z
UID:10005441-1796895000-1796898600@lbmcoc.ca
SUMMARY:Yoga
DESCRIPTION:
URL:https://lbmcoc.ca/event/yoga-2/2026-12-10/
END:VEVENT
BEGIN:VEVENT
DTSTART;TZID=America/St_Johns:20261214T093000
DTEND;TZID=America/St_Johns:20261214T103000
DTSTAMP:20260424T084456
CREATED:20260331T135417Z
LAST-MODIFIED:20260331T135417Z
UID:10005326-1797240600-1797244200@lbmcoc.ca
SUMMARY:Fun & Fit
DESCRIPTION:
URL:https://lbmcoc.ca/event/fun-fit/2026-12-14/
LOCATION:Justina Centre\, 108 Outer Cove Rd\, Outer Cove\, NL\, A1K 4E1
END:VEVENT
BEGIN:VEVENT
DTSTART;TZID=America/St_Johns:20261215T093000
DTEND;TZID=America/St_Johns:20261215T103000
DTSTAMP:20260424T084456
CREATED:20260331T135613Z
LAST-MODIFIED:20260331T135613Z
UID:10005384-1797327000-1797330600@lbmcoc.ca
SUMMARY:Yoga
DESCRIPTION:
URL:https://lbmcoc.ca/event/yoga/2026-12-15/
END:VEVENT
BEGIN:VEVENT
DTSTART;TZID=America/St_Johns:20261217T093000
DTEND;TZID=America/St_Johns:20261217T103000
DTSTAMP:20260424T084456
CREATED:20260331T135710Z
LAST-MODIFIED:20260331T135710Z
UID:10005442-1797499800-1797503400@lbmcoc.ca
SUMMARY:Yoga
DESCRIPTION:
URL:https://lbmcoc.ca/event/yoga-2/2026-12-17/
END:VEVENT
BEGIN:VEVENT
DTSTART;TZID=America/St_Johns:20261221T093000
DTEND;TZID=America/St_Johns:20261221T103000
DTSTAMP:20260424T084456
CREATED:20260331T135417Z
LAST-MODIFIED:20260331T135417Z
UID:10005327-1797845400-1797849000@lbmcoc.ca
SUMMARY:Fun & Fit
DESCRIPTION:
URL:https://lbmcoc.ca/event/fun-fit/2026-12-21/
LOCATION:Justina Centre\, 108 Outer Cove Rd\, Outer Cove\, NL\, A1K 4E1
END:VEVENT
BEGIN:VEVENT
DTSTART;TZID=America/St_Johns:20261222T093000
DTEND;TZID=America/St_Johns:20261222T103000
DTSTAMP:20260424T084456
CREATED:20260331T135613Z
LAST-MODIFIED:20260331T135613Z
UID:10005385-1797931800-1797935400@lbmcoc.ca
SUMMARY:Yoga
DESCRIPTION:
URL:https://lbmcoc.ca/event/yoga/2026-12-22/
END:VEVENT
BEGIN:VEVENT
DTSTART;TZID=America/St_Johns:20261224T093000
DTEND;TZID=America/St_Johns:20261224T103000
DTSTAMP:20260424T084456
CREATED:20260331T135710Z
LAST-MODIFIED:20260331T135710Z
UID:10005443-1798104600-1798108200@lbmcoc.ca
SUMMARY:Yoga
DESCRIPTION:
URL:https://lbmcoc.ca/event/yoga-2/2026-12-24/
END:VEVENT
BEGIN:VEVENT
DTSTART;TZID=America/St_Johns:20261228T093000
DTEND;TZID=America/St_Johns:20261228T103000
DTSTAMP:20260424T084456
CREATED:20260331T135417Z
LAST-MODIFIED:20260331T135417Z
UID:10005328-1798450200-1798453800@lbmcoc.ca
SUMMARY:Fun & Fit
DESCRIPTION:
URL:https://lbmcoc.ca/event/fun-fit/2026-12-28/
LOCATION:Justina Centre\, 108 Outer Cove Rd\, Outer Cove\, NL\, A1K 4E1
END:VEVENT
BEGIN:VEVENT
DTSTART;TZID=America/St_Johns:20261229T093000
DTEND;TZID=America/St_Johns:20261229T103000
DTSTAMP:20260424T084456
CREATED:20260331T135613Z
LAST-MODIFIED:20260331T135613Z
UID:10005386-1798536600-1798540200@lbmcoc.ca
SUMMARY:Yoga
DESCRIPTION:
URL:https://lbmcoc.ca/event/yoga/2026-12-29/
END:VEVENT
BEGIN:VEVENT
DTSTART;TZID=America/St_Johns:20261231T093000
DTEND;TZID=America/St_Johns:20261231T103000
DTSTAMP:20260424T084456
CREATED:20260331T135710Z
LAST-MODIFIED:20260331T135710Z
UID:10005444-1798709400-1798713000@lbmcoc.ca
SUMMARY:Yoga
DESCRIPTION:
URL:https://lbmcoc.ca/event/yoga-2/2026-12-31/
END:VEVENT
BEGIN:VEVENT
DTSTART;TZID=America/St_Johns:20270104T093000
DTEND;TZID=America/St_Johns:20270104T103000
DTSTAMP:20260424T084456
CREATED:20260331T135417Z
LAST-MODIFIED:20260331T135417Z
UID:10005329-1799055000-1799058600@lbmcoc.ca
SUMMARY:Fun & Fit
DESCRIPTION:
URL:https://lbmcoc.ca/event/fun-fit/2027-01-04/
LOCATION:Justina Centre\, 108 Outer Cove Rd\, Outer Cove\, NL\, A1K 4E1
END:VEVENT
BEGIN:VEVENT
DTSTART;TZID=America/St_Johns:20270105T093000
DTEND;TZID=America/St_Johns:20270105T103000
DTSTAMP:20260424T084456
CREATED:20260331T135613Z
LAST-MODIFIED:20260331T135613Z
UID:10005387-1799141400-1799145000@lbmcoc.ca
SUMMARY:Yoga
DESCRIPTION:
URL:https://lbmcoc.ca/event/yoga/2027-01-05/
END:VEVENT
BEGIN:VEVENT
DTSTART;TZID=America/St_Johns:20270107T093000
DTEND;TZID=America/St_Johns:20270107T103000
DTSTAMP:20260424T084456
CREATED:20260331T135710Z
LAST-MODIFIED:20260331T135710Z
UID:10005445-1799314200-1799317800@lbmcoc.ca
SUMMARY:Yoga
DESCRIPTION:
URL:https://lbmcoc.ca/event/yoga-2/2027-01-07/
END:VEVENT
BEGIN:VEVENT
DTSTART;TZID=America/St_Johns:20270111T093000
DTEND;TZID=America/St_Johns:20270111T103000
DTSTAMP:20260424T084456
CREATED:20260331T135417Z
LAST-MODIFIED:20260331T135417Z
UID:10005330-1799659800-1799663400@lbmcoc.ca
SUMMARY:Fun & Fit
DESCRIPTION:
URL:https://lbmcoc.ca/event/fun-fit/2027-01-11/
LOCATION:Justina Centre\, 108 Outer Cove Rd\, Outer Cove\, NL\, A1K 4E1
END:VEVENT
BEGIN:VEVENT
DTSTART;TZID=America/St_Johns:20270112T093000
DTEND;TZID=America/St_Johns:20270112T103000
DTSTAMP:20260424T084456
CREATED:20260331T135613Z
LAST-MODIFIED:20260331T135613Z
UID:10005388-1799746200-1799749800@lbmcoc.ca
SUMMARY:Yoga
DESCRIPTION:
URL:https://lbmcoc.ca/event/yoga/2027-01-12/
END:VEVENT
BEGIN:VEVENT
DTSTART;TZID=America/St_Johns:20270114T093000
DTEND;TZID=America/St_Johns:20270114T103000
DTSTAMP:20260424T084456
CREATED:20260331T135710Z
LAST-MODIFIED:20260331T135710Z
UID:10005446-1799919000-1799922600@lbmcoc.ca
SUMMARY:Yoga
DESCRIPTION:
URL:https://lbmcoc.ca/event/yoga-2/2027-01-14/
END:VEVENT
BEGIN:VEVENT
DTSTART;TZID=America/St_Johns:20270118T093000
DTEND;TZID=America/St_Johns:20270118T103000
DTSTAMP:20260424T084456
CREATED:20260331T135417Z
LAST-MODIFIED:20260331T135417Z
UID:10005331-1800264600-1800268200@lbmcoc.ca
SUMMARY:Fun & Fit
DESCRIPTION:
URL:https://lbmcoc.ca/event/fun-fit/2027-01-18/
LOCATION:Justina Centre\, 108 Outer Cove Rd\, Outer Cove\, NL\, A1K 4E1
END:VEVENT
BEGIN:VEVENT
DTSTART;TZID=America/St_Johns:20270119T093000
DTEND;TZID=America/St_Johns:20270119T103000
DTSTAMP:20260424T084456
CREATED:20260331T135613Z
LAST-MODIFIED:20260331T135613Z
UID:10005389-1800351000-1800354600@lbmcoc.ca
SUMMARY:Yoga
DESCRIPTION:
URL:https://lbmcoc.ca/event/yoga/2027-01-19/
END:VEVENT
BEGIN:VEVENT
DTSTART;TZID=America/St_Johns:20270121T093000
DTEND;TZID=America/St_Johns:20270121T103000
DTSTAMP:20260424T084456
CREATED:20260331T135710Z
LAST-MODIFIED:20260331T135710Z
UID:10005447-1800523800-1800527400@lbmcoc.ca
SUMMARY:Yoga
DESCRIPTION:
URL:https://lbmcoc.ca/event/yoga-2/2027-01-21/
END:VEVENT
BEGIN:VEVENT
DTSTART;TZID=America/St_Johns:20270125T093000
DTEND;TZID=America/St_Johns:20270125T103000
DTSTAMP:20260424T084456
CREATED:20260331T135417Z
LAST-MODIFIED:20260331T135417Z
UID:10005332-1800869400-1800873000@lbmcoc.ca
SUMMARY:Fun & Fit
DESCRIPTION:
URL:https://lbmcoc.ca/event/fun-fit/2027-01-25/
LOCATION:Justina Centre\, 108 Outer Cove Rd\, Outer Cove\, NL\, A1K 4E1
END:VEVENT
BEGIN:VEVENT
DTSTART;TZID=America/St_Johns:20270126T093000
DTEND;TZID=America/St_Johns:20270126T103000
DTSTAMP:20260424T084456
CREATED:20260331T135613Z
LAST-MODIFIED:20260331T135613Z
UID:10005390-1800955800-1800959400@lbmcoc.ca
SUMMARY:Yoga
DESCRIPTION:
URL:https://lbmcoc.ca/event/yoga/2027-01-26/
END:VEVENT
BEGIN:VEVENT
DTSTART;TZID=America/St_Johns:20270128T093000
DTEND;TZID=America/St_Johns:20270128T103000
DTSTAMP:20260424T084456
CREATED:20260331T135710Z
LAST-MODIFIED:20260331T135710Z
UID:10005448-1801128600-1801132200@lbmcoc.ca
SUMMARY:Yoga
DESCRIPTION:
URL:https://lbmcoc.ca/event/yoga-2/2027-01-28/
END:VEVENT
BEGIN:VEVENT
DTSTART;TZID=America/St_Johns:20270201T093000
DTEND;TZID=America/St_Johns:20270201T103000
DTSTAMP:20260424T084456
CREATED:20260331T135417Z
LAST-MODIFIED:20260331T135417Z
UID:10005333-1801474200-1801477800@lbmcoc.ca
SUMMARY:Fun & Fit
DESCRIPTION:
URL:https://lbmcoc.ca/event/fun-fit/2027-02-01/
LOCATION:Justina Centre\, 108 Outer Cove Rd\, Outer Cove\, NL\, A1K 4E1
END:VEVENT
BEGIN:VEVENT
DTSTART;TZID=America/St_Johns:20270202T093000
DTEND;TZID=America/St_Johns:20270202T103000
DTSTAMP:20260424T084456
CREATED:20260331T135613Z
LAST-MODIFIED:20260331T135613Z
UID:10005391-1801560600-1801564200@lbmcoc.ca
SUMMARY:Yoga
DESCRIPTION:
URL:https://lbmcoc.ca/event/yoga/2027-02-02/
END:VEVENT
BEGIN:VEVENT
DTSTART;TZID=America/St_Johns:20270204T093000
DTEND;TZID=America/St_Johns:20270204T103000
DTSTAMP:20260424T084456
CREATED:20260331T135710Z
LAST-MODIFIED:20260331T135710Z
UID:10005449-1801733400-1801737000@lbmcoc.ca
SUMMARY:Yoga
DESCRIPTION:
URL:https://lbmcoc.ca/event/yoga-2/2027-02-04/
END:VEVENT
BEGIN:VEVENT
DTSTART;TZID=America/St_Johns:20270208T093000
DTEND;TZID=America/St_Johns:20270208T103000
DTSTAMP:20260424T084456
CREATED:20260331T135417Z
LAST-MODIFIED:20260331T135417Z
UID:10005334-1802079000-1802082600@lbmcoc.ca
SUMMARY:Fun & Fit
DESCRIPTION:
URL:https://lbmcoc.ca/event/fun-fit/2027-02-08/
LOCATION:Justina Centre\, 108 Outer Cove Rd\, Outer Cove\, NL\, A1K 4E1
END:VEVENT
END:VCALENDAR