BEGIN:VCALENDAR
VERSION:2.0
PRODID:-//Logy Bay - Middle Cove - Outer Cove - ECPv6.15.19//NONSGML v1.0//EN
CALSCALE:GREGORIAN
METHOD:PUBLISH
X-WR-CALNAME:Logy Bay - Middle Cove - Outer Cove
X-ORIGINAL-URL:https://lbmcoc.ca
X-WR-CALDESC:Events for Logy Bay - Middle Cove - Outer Cove
REFRESH-INTERVAL;VALUE=DURATION:PT1H
X-Robots-Tag:noindex
X-PUBLISHED-TTL:PT1H
BEGIN:VTIMEZONE
TZID:America/St_Johns
BEGIN:DAYLIGHT
TZOFFSETFROM:-0330
TZOFFSETTO:-0230
TZNAME:NDT
DTSTART:20250309T053000
END:DAYLIGHT
BEGIN:STANDARD
TZOFFSETFROM:-0230
TZOFFSETTO:-0330
TZNAME:NST
DTSTART:20251102T043000
END:STANDARD
BEGIN:DAYLIGHT
TZOFFSETFROM:-0330
TZOFFSETTO:-0230
TZNAME:NDT
DTSTART:20260308T053000
END:DAYLIGHT
BEGIN:STANDARD
TZOFFSETFROM:-0230
TZOFFSETTO:-0330
TZNAME:NST
DTSTART:20261101T043000
END:STANDARD
BEGIN:DAYLIGHT
TZOFFSETFROM:-0330
TZOFFSETTO:-0230
TZNAME:NDT
DTSTART:20270314T053000
END:DAYLIGHT
BEGIN:STANDARD
TZOFFSETFROM:-0230
TZOFFSETTO:-0330
TZNAME:NST
DTSTART:20271107T043000
END:STANDARD
END:VTIMEZONE
BEGIN:VEVENT
DTSTART;TZID=America/St_Johns:20260406T093000
DTEND;TZID=America/St_Johns:20260406T103000
DTSTAMP:20260423T173325
CREATED:20260331T135417Z
LAST-MODIFIED:20260331T135417Z
UID:10005290-1775467800-1775471400@lbmcoc.ca
SUMMARY:Fun & Fit
DESCRIPTION:
URL:https://lbmcoc.ca/event/fun-fit/2026-04-06/
LOCATION:Justina Centre\, 108 Outer Cove Rd\, Outer Cove\, NL\, A1K 4E1
END:VEVENT
BEGIN:VEVENT
DTSTART;TZID=America/St_Johns:20260404T140000
DTEND;TZID=America/St_Johns:20260404T143000
DTSTAMP:20260423T173325
CREATED:20260330T134444Z
LAST-MODIFIED:20260330T134444Z
UID:10005288-1775311200-1775313000@lbmcoc.ca
SUMMARY:Easter Egg Drop
DESCRIPTION:
URL:https://lbmcoc.ca/event/easter-egg-drop/
LOCATION:Kelly Park\, 108 Outer Cove Road\, Outer Cove\, Newfoundland and Labrador\, A1K4E2\, Canada
END:VEVENT
BEGIN:VEVENT
DTSTART;TZID=America/St_Johns:20260404T083000
DTEND;TZID=America/St_Johns:20260404T130000
DTSTAMP:20260423T173325
CREATED:20260330T134103Z
LAST-MODIFIED:20260330T134103Z
UID:10005287-1775291400-1775307600@lbmcoc.ca
SUMMARY:Breakfast with the Easter Bunny
DESCRIPTION:
URL:https://lbmcoc.ca/event/breakfast-with-the-easter-bunny/
LOCATION:Justina Centre\, 108 Outer Cove Rd\, Outer Cove\, NL\, A1K 4E1
END:VEVENT
BEGIN:VEVENT
DTSTART;TZID=America/St_Johns:20260402T200000
DTEND;TZID=America/St_Johns:20260402T230000
DTSTAMP:20260423T173325
CREATED:20260331T140610Z
LAST-MODIFIED:20260331T140610Z
UID:10005491-1775160000-1775170800@lbmcoc.ca
SUMMARY:Darts
DESCRIPTION:
URL:https://lbmcoc.ca/event/darts/2026-04-02/
LOCATION:Justina Centre\, 108 Outer Cove Rd\, Outer Cove\, NL\, A1K 4E1
END:VEVENT
BEGIN:VEVENT
DTSTART;TZID=America/St_Johns:20260329T190000
DTEND;TZID=America/St_Johns:20260329T200000
DTSTAMP:20260423T173325
CREATED:20260331T140439Z
LAST-MODIFIED:20260331T140439Z
UID:10005485-1774810800-1774814400@lbmcoc.ca
SUMMARY:Zumba
DESCRIPTION:
URL:https://lbmcoc.ca/event/zumba-2/2026-03-29/
LOCATION:Justina Centre\, 108 Outer Cove Rd\, Outer Cove\, NL\, A1K 4E1
END:VEVENT
END:VCALENDAR