BEGIN:VCALENDAR
VERSION:2.0
PRODID:-//Logy Bay - Middle Cove - Outer Cove - ECPv6.15.19//NONSGML v1.0//EN
CALSCALE:GREGORIAN
METHOD:PUBLISH
X-WR-CALNAME:Logy Bay - Middle Cove - Outer Cove
X-ORIGINAL-URL:https://lbmcoc.ca
X-WR-CALDESC:Events for Logy Bay - Middle Cove - Outer Cove
REFRESH-INTERVAL;VALUE=DURATION:PT1H
X-Robots-Tag:noindex
X-PUBLISHED-TTL:PT1H
BEGIN:VTIMEZONE
TZID:America/St_Johns
BEGIN:DAYLIGHT
TZOFFSETFROM:-0330
TZOFFSETTO:-0230
TZNAME:NDT
DTSTART:20250309T053000
END:DAYLIGHT
BEGIN:STANDARD
TZOFFSETFROM:-0230
TZOFFSETTO:-0330
TZNAME:NST
DTSTART:20251102T043000
END:STANDARD
BEGIN:DAYLIGHT
TZOFFSETFROM:-0330
TZOFFSETTO:-0230
TZNAME:NDT
DTSTART:20260308T053000
END:DAYLIGHT
BEGIN:STANDARD
TZOFFSETFROM:-0230
TZOFFSETTO:-0330
TZNAME:NST
DTSTART:20261101T043000
END:STANDARD
BEGIN:DAYLIGHT
TZOFFSETFROM:-0330
TZOFFSETTO:-0230
TZNAME:NDT
DTSTART:20270314T053000
END:DAYLIGHT
BEGIN:STANDARD
TZOFFSETFROM:-0230
TZOFFSETTO:-0330
TZNAME:NST
DTSTART:20271107T043000
END:STANDARD
END:VTIMEZONE
BEGIN:VEVENT
DTSTART;TZID=America/St_Johns:20260510T190000
DTEND;TZID=America/St_Johns:20260510T200000
DTSTAMP:20260423T173336
CREATED:20260331T140439Z
LAST-MODIFIED:20260331T140439Z
UID:10005489-1778439600-1778443200@lbmcoc.ca
SUMMARY:Zumba
DESCRIPTION:
URL:https://lbmcoc.ca/event/zumba-2/2026-05-10/
LOCATION:Justina Centre\, 108 Outer Cove Rd\, Outer Cove\, NL\, A1K 4E1
END:VEVENT
BEGIN:VEVENT
DTSTART;TZID=America/St_Johns:20260509T190000
DTEND;TZID=America/St_Johns:20260509T233000
DTSTAMP:20260423T173336
CREATED:20260417T133920Z
LAST-MODIFIED:20260417T133920Z
UID:10005497-1778353200-1778369400@lbmcoc.ca
SUMMARY:Concert Crowd Pub Night
DESCRIPTION:
URL:https://lbmcoc.ca/event/concert-crowd-pub-night/
LOCATION:Justina Centre\, 108 Outer Cove Rd\, Outer Cove\, NL\, A1K 4E1
END:VEVENT
BEGIN:VEVENT
DTSTART;TZID=America/St_Johns:20260509T100000
DTEND;TZID=America/St_Johns:20260509T110000
DTSTAMP:20260423T173336
CREATED:20260331T140035Z
LAST-MODIFIED:20260331T140743Z
UID:10005474-1778320800-1778324400@lbmcoc.ca
SUMMARY:Body Flow
DESCRIPTION:
URL:https://lbmcoc.ca/event/body-flow/2026-05-09/
LOCATION:Justina Centre\, 108 Outer Cove Rd\, Outer Cove\, NL\, A1K 4E1
END:VEVENT
BEGIN:VEVENT
DTSTART;TZID=America/St_Johns:20260507T093000
DTEND;TZID=America/St_Johns:20260507T103000
DTSTAMP:20260423T173336
CREATED:20260331T135710Z
LAST-MODIFIED:20260331T135710Z
UID:10005410-1778146200-1778149800@lbmcoc.ca
SUMMARY:Yoga
DESCRIPTION:
URL:https://lbmcoc.ca/event/yoga-2/2026-05-07/
LOCATION:NL
END:VEVENT
BEGIN:VEVENT
DTSTART;TZID=America/St_Johns:20260506T190000
DTEND;TZID=America/St_Johns:20260506T200000
DTSTAMP:20260423T173336
CREATED:20260331T140146Z
LAST-MODIFIED:20260331T140146Z
UID:10005481-1778094000-1778097600@lbmcoc.ca
SUMMARY:Zumba
DESCRIPTION:
URL:https://lbmcoc.ca/event/zumba/2026-05-06/
LOCATION:Justina Centre\, 108 Outer Cove Rd\, Outer Cove\, NL\, A1K 4E1
END:VEVENT
BEGIN:VEVENT
DTSTART;TZID=America/St_Johns:20260505T190000
DTEND;TZID=America/St_Johns:20260505T200000
DTSTAMP:20260423T173336
CREATED:20260331T135919Z
LAST-MODIFIED:20260331T135919Z
UID:10005464-1778007600-1778011200@lbmcoc.ca
SUMMARY:Yoga
DESCRIPTION:
URL:https://lbmcoc.ca/event/yoga-3/2026-05-05/
LOCATION:Justina Centre\, 108 Outer Cove Rd\, Outer Cove\, NL\, A1K 4E1
END:VEVENT
BEGIN:VEVENT
DTSTART;TZID=America/St_Johns:20260505T093000
DTEND;TZID=America/St_Johns:20260505T103000
DTSTAMP:20260423T173336
CREATED:20260331T135613Z
LAST-MODIFIED:20260331T135613Z
UID:10005352-1777973400-1777977000@lbmcoc.ca
SUMMARY:Yoga
DESCRIPTION:
URL:https://lbmcoc.ca/event/yoga/2026-05-05/
LOCATION:NL
END:VEVENT
BEGIN:VEVENT
DTSTART;TZID=America/St_Johns:20260504T093000
DTEND;TZID=America/St_Johns:20260504T103000
DTSTAMP:20260423T173336
CREATED:20260331T135417Z
LAST-MODIFIED:20260331T135417Z
UID:10005294-1777887000-1777890600@lbmcoc.ca
SUMMARY:Fun & Fit
DESCRIPTION:
URL:https://lbmcoc.ca/event/fun-fit/2026-05-04/
LOCATION:Justina Centre\, 108 Outer Cove Rd\, Outer Cove\, NL\, A1K 4E1
END:VEVENT
BEGIN:VEVENT
DTSTART;TZID=America/St_Johns:20260503T190000
DTEND;TZID=America/St_Johns:20260503T200000
DTSTAMP:20260423T173336
CREATED:20260331T140439Z
LAST-MODIFIED:20260331T140439Z
UID:10005488-1777834800-1777838400@lbmcoc.ca
SUMMARY:Zumba
DESCRIPTION:
URL:https://lbmcoc.ca/event/zumba-2/2026-05-03/
LOCATION:Justina Centre\, 108 Outer Cove Rd\, Outer Cove\, NL\, A1K 4E1
END:VEVENT
BEGIN:VEVENT
DTSTART;TZID=America/St_Johns:20260502T180000
DTEND;TZID=America/St_Johns:20260502T200000
DTSTAMP:20260423T173336
CREATED:20260417T134027Z
LAST-MODIFIED:20260417T134027Z
UID:10005498-1777744800-1777752000@lbmcoc.ca
SUMMARY:Mothers Day Wine Dinner
DESCRIPTION:
URL:https://lbmcoc.ca/event/mothers-day-wine-dinner/
LOCATION:Justina Centre\, 108 Outer Cove Rd\, Outer Cove\, NL\, A1K 4E1
END:VEVENT
BEGIN:VEVENT
DTSTART;TZID=America/St_Johns:20260502T100000
DTEND;TZID=America/St_Johns:20260502T110000
DTSTAMP:20260423T173336
CREATED:20260331T140035Z
LAST-MODIFIED:20260331T140743Z
UID:10005473-1777716000-1777719600@lbmcoc.ca
SUMMARY:Body Flow
DESCRIPTION:
URL:https://lbmcoc.ca/event/body-flow/2026-05-02/
LOCATION:Justina Centre\, 108 Outer Cove Rd\, Outer Cove\, NL\, A1K 4E1
END:VEVENT
BEGIN:VEVENT
DTSTART;TZID=America/St_Johns:20260502T080000
DTEND;TZID=America/St_Johns:20260502T170000
DTSTAMP:20260423T173336
CREATED:20260417T133740Z
LAST-MODIFIED:20260417T133740Z
UID:10005496-1777708800-1777741200@lbmcoc.ca
SUMMARY:Fire Smart Event
DESCRIPTION:
URL:https://lbmcoc.ca/event/fire-smart-event/
LOCATION:Kelly Park\, 108 Outer Cove Road\, Outer Cove\, Newfoundland and Labrador\, A1K4E2\, Canada
END:VEVENT
BEGIN:VEVENT
DTSTART;TZID=America/St_Johns:20260430T093000
DTEND;TZID=America/St_Johns:20260430T103000
DTSTAMP:20260423T173336
CREATED:20260331T135710Z
LAST-MODIFIED:20260331T135710Z
UID:10005409-1777541400-1777545000@lbmcoc.ca
SUMMARY:Yoga
DESCRIPTION:
URL:https://lbmcoc.ca/event/yoga-2/2026-04-30/
LOCATION:NL
END:VEVENT
BEGIN:VEVENT
DTSTART;TZID=America/St_Johns:20260429T190000
DTEND;TZID=America/St_Johns:20260429T200000
DTSTAMP:20260423T173336
CREATED:20260331T140146Z
LAST-MODIFIED:20260331T140146Z
UID:10005480-1777489200-1777492800@lbmcoc.ca
SUMMARY:Zumba
DESCRIPTION:
URL:https://lbmcoc.ca/event/zumba/2026-04-29/
LOCATION:Justina Centre\, 108 Outer Cove Rd\, Outer Cove\, NL\, A1K 4E1
END:VEVENT
BEGIN:VEVENT
DTSTART;TZID=America/St_Johns:20260428T093000
DTEND;TZID=America/St_Johns:20260428T103000
DTSTAMP:20260423T173336
CREATED:20260331T135613Z
LAST-MODIFIED:20260331T135613Z
UID:10005351-1777368600-1777372200@lbmcoc.ca
SUMMARY:Yoga
DESCRIPTION:
URL:https://lbmcoc.ca/event/yoga/2026-04-28/
LOCATION:NL
END:VEVENT
BEGIN:VEVENT
DTSTART;TZID=America/St_Johns:20260427T093000
DTEND;TZID=America/St_Johns:20260427T103000
DTSTAMP:20260423T173336
CREATED:20260331T135417Z
LAST-MODIFIED:20260331T135417Z
UID:10005293-1777282200-1777285800@lbmcoc.ca
SUMMARY:Fun & Fit
DESCRIPTION:
URL:https://lbmcoc.ca/event/fun-fit/2026-04-27/
LOCATION:Justina Centre\, 108 Outer Cove Rd\, Outer Cove\, NL\, A1K 4E1
END:VEVENT
BEGIN:VEVENT
DTSTART;TZID=America/St_Johns:20260425T100000
DTEND;TZID=America/St_Johns:20260425T110000
DTSTAMP:20260423T173336
CREATED:20260331T140035Z
LAST-MODIFIED:20260331T140743Z
UID:10005472-1777111200-1777114800@lbmcoc.ca
SUMMARY:Body Flow
DESCRIPTION:
URL:https://lbmcoc.ca/event/body-flow/2026-04-25/
LOCATION:Justina Centre\, 108 Outer Cove Rd\, Outer Cove\, NL\, A1K 4E1
END:VEVENT
BEGIN:VEVENT
DTSTART;TZID=America/St_Johns:20260423T183000
DTEND;TZID=America/St_Johns:20260423T200000
DTSTAMP:20260423T173336
CREATED:20260331T141244Z
LAST-MODIFIED:20260331T141244Z
UID:10005495-1776969000-1776974400@lbmcoc.ca
SUMMARY:Volunteer Appreciation Night
DESCRIPTION:
URL:https://lbmcoc.ca/event/volunteer-appreciation-night/
LOCATION:Justina Centre\, 108 Outer Cove Rd\, Outer Cove\, NL\, A1K 4E1
END:VEVENT
BEGIN:VEVENT
DTSTART;TZID=America/St_Johns:20260423T093000
DTEND;TZID=America/St_Johns:20260423T103000
DTSTAMP:20260423T173336
CREATED:20260331T135710Z
LAST-MODIFIED:20260331T135710Z
UID:10005408-1776936600-1776940200@lbmcoc.ca
SUMMARY:Yoga
DESCRIPTION:
URL:https://lbmcoc.ca/event/yoga-2/2026-04-23/
LOCATION:NL
END:VEVENT
BEGIN:VEVENT
DTSTART;TZID=America/St_Johns:20260422T190000
DTEND;TZID=America/St_Johns:20260422T200000
DTSTAMP:20260423T173336
CREATED:20260331T140146Z
LAST-MODIFIED:20260331T140146Z
UID:10005479-1776884400-1776888000@lbmcoc.ca
SUMMARY:Zumba
DESCRIPTION:
URL:https://lbmcoc.ca/event/zumba/2026-04-22/
LOCATION:Justina Centre\, 108 Outer Cove Rd\, Outer Cove\, NL\, A1K 4E1
END:VEVENT
BEGIN:VEVENT
DTSTART;TZID=America/St_Johns:20260421T093000
DTEND;TZID=America/St_Johns:20260421T103000
DTSTAMP:20260423T173336
CREATED:20260331T135613Z
LAST-MODIFIED:20260331T135613Z
UID:10005350-1776763800-1776767400@lbmcoc.ca
SUMMARY:Yoga
DESCRIPTION:
URL:https://lbmcoc.ca/event/yoga/2026-04-21/
LOCATION:NL
END:VEVENT
BEGIN:VEVENT
DTSTART;TZID=America/St_Johns:20260420T093000
DTEND;TZID=America/St_Johns:20260420T103000
DTSTAMP:20260423T173336
CREATED:20260331T135417Z
LAST-MODIFIED:20260331T135417Z
UID:10005292-1776677400-1776681000@lbmcoc.ca
SUMMARY:Fun & Fit
DESCRIPTION:
URL:https://lbmcoc.ca/event/fun-fit/2026-04-20/
LOCATION:Justina Centre\, 108 Outer Cove Rd\, Outer Cove\, NL\, A1K 4E1
END:VEVENT
BEGIN:VEVENT
DTSTART;TZID=America/St_Johns:20260419T190000
DTEND;TZID=America/St_Johns:20260419T200000
DTSTAMP:20260423T173336
CREATED:20260331T140439Z
LAST-MODIFIED:20260331T140439Z
UID:10005487-1776625200-1776628800@lbmcoc.ca
SUMMARY:Zumba
DESCRIPTION:
URL:https://lbmcoc.ca/event/zumba-2/2026-04-19/
LOCATION:Justina Centre\, 108 Outer Cove Rd\, Outer Cove\, NL\, A1K 4E1
END:VEVENT
BEGIN:VEVENT
DTSTART;VALUE=DATE:20260418
DTEND;VALUE=DATE:20260419
DTSTAMP:20260423T173336
CREATED:20260331T140641Z
LAST-MODIFIED:20260331T140641Z
UID:10005494-1776470400-1776556799@lbmcoc.ca
SUMMARY:Dart Knockouts
DESCRIPTION:
URL:https://lbmcoc.ca/event/dart-knockouts/
LOCATION:Justina Centre\, 108 Outer Cove Rd\, Outer Cove\, NL\, A1K 4E1
END:VEVENT
BEGIN:VEVENT
DTSTART;TZID=America/St_Johns:20260416T200000
DTEND;TZID=America/St_Johns:20260416T230000
DTSTAMP:20260423T173336
CREATED:20260331T140610Z
LAST-MODIFIED:20260331T140610Z
UID:10005493-1776369600-1776380400@lbmcoc.ca
SUMMARY:Darts
DESCRIPTION:
URL:https://lbmcoc.ca/event/darts/2026-04-16/
LOCATION:Justina Centre\, 108 Outer Cove Rd\, Outer Cove\, NL\, A1K 4E1
END:VEVENT
BEGIN:VEVENT
DTSTART;TZID=America/St_Johns:20260416T093000
DTEND;TZID=America/St_Johns:20260416T103000
DTSTAMP:20260423T173336
CREATED:20260331T135710Z
LAST-MODIFIED:20260331T135710Z
UID:10005407-1776331800-1776335400@lbmcoc.ca
SUMMARY:Yoga
DESCRIPTION:
URL:https://lbmcoc.ca/event/yoga-2/2026-04-16/
LOCATION:NL
END:VEVENT
BEGIN:VEVENT
DTSTART;TZID=America/St_Johns:20260415T190000
DTEND;TZID=America/St_Johns:20260415T200000
DTSTAMP:20260423T173336
CREATED:20260331T140146Z
LAST-MODIFIED:20260331T140146Z
UID:10005478-1776279600-1776283200@lbmcoc.ca
SUMMARY:Zumba
DESCRIPTION:
URL:https://lbmcoc.ca/event/zumba/2026-04-15/
LOCATION:Justina Centre\, 108 Outer Cove Rd\, Outer Cove\, NL\, A1K 4E1
END:VEVENT
BEGIN:VEVENT
DTSTART;TZID=America/St_Johns:20260414T180000
DTEND;TZID=America/St_Johns:20260414T190000
DTSTAMP:20260423T173336
CREATED:20260330T134612Z
LAST-MODIFIED:20260330T134612Z
UID:10005289-1776189600-1776193200@lbmcoc.ca
SUMMARY:Chocolate Bar Making at Newfoundland Chocolate Company
DESCRIPTION:
URL:https://lbmcoc.ca/event/chocolate-bar-making-at-newfoundland-chocolate-company/
LOCATION:NL
END:VEVENT
BEGIN:VEVENT
DTSTART;TZID=America/St_Johns:20260414T093000
DTEND;TZID=America/St_Johns:20260414T103000
DTSTAMP:20260423T173336
CREATED:20260331T135613Z
LAST-MODIFIED:20260331T135613Z
UID:10005349-1776159000-1776162600@lbmcoc.ca
SUMMARY:Yoga
DESCRIPTION:
URL:https://lbmcoc.ca/event/yoga/2026-04-14/
LOCATION:NL
END:VEVENT
BEGIN:VEVENT
DTSTART;TZID=America/St_Johns:20260413T183000
DTEND;TZID=America/St_Johns:20260413T193000
DTSTAMP:20260423T173336
CREATED:20260330T133201Z
LAST-MODIFIED:20260330T134201Z
UID:10005285-1776105000-1776108600@lbmcoc.ca
SUMMARY:Council Meeting
DESCRIPTION:
URL:https://lbmcoc.ca/event/council-meeting/
LOCATION:Council Chambers\, 744 Logy Bay Road\, Logy Bay\, NL\, A1K 3B5
END:VEVENT
END:VCALENDAR