BEGIN:VCALENDAR
VERSION:2.0
PRODID:-//Logy Bay - Middle Cove - Outer Cove - ECPv6.15.19//NONSGML v1.0//EN
CALSCALE:GREGORIAN
METHOD:PUBLISH
X-WR-CALNAME:Logy Bay - Middle Cove - Outer Cove
X-ORIGINAL-URL:https://lbmcoc.ca
X-WR-CALDESC:Events for Logy Bay - Middle Cove - Outer Cove
REFRESH-INTERVAL;VALUE=DURATION:PT1H
X-Robots-Tag:noindex
X-PUBLISHED-TTL:PT1H
BEGIN:VTIMEZONE
TZID:America/St_Johns
BEGIN:DAYLIGHT
TZOFFSETFROM:-0330
TZOFFSETTO:-0230
TZNAME:NDT
DTSTART:20260308T053000
END:DAYLIGHT
BEGIN:STANDARD
TZOFFSETFROM:-0230
TZOFFSETTO:-0330
TZNAME:NST
DTSTART:20261101T043000
END:STANDARD
BEGIN:DAYLIGHT
TZOFFSETFROM:-0330
TZOFFSETTO:-0230
TZNAME:NDT
DTSTART:20270314T053000
END:DAYLIGHT
BEGIN:STANDARD
TZOFFSETFROM:-0230
TZOFFSETTO:-0330
TZNAME:NST
DTSTART:20271107T043000
END:STANDARD
BEGIN:DAYLIGHT
TZOFFSETFROM:-0330
TZOFFSETTO:-0230
TZNAME:NDT
DTSTART:20280312T053000
END:DAYLIGHT
BEGIN:STANDARD
TZOFFSETFROM:-0230
TZOFFSETTO:-0330
TZNAME:NST
DTSTART:20281105T043000
END:STANDARD
END:VTIMEZONE
BEGIN:VEVENT
DTSTART;TZID=America/St_Johns:20270218T093000
DTEND;TZID=America/St_Johns:20270218T103000
DTSTAMP:20260424T064857
CREATED:20260331T135710Z
LAST-MODIFIED:20260331T135710Z
UID:10005451-1802943000-1802946600@lbmcoc.ca
SUMMARY:Yoga
DESCRIPTION:
URL:https://lbmcoc.ca/event/yoga-2/2027-02-18/
LOCATION:NL
END:VEVENT
BEGIN:VEVENT
DTSTART;TZID=America/St_Johns:20270222T093000
DTEND;TZID=America/St_Johns:20270222T103000
DTSTAMP:20260424T064857
CREATED:20260331T135417Z
LAST-MODIFIED:20260331T135417Z
UID:10005336-1803288600-1803292200@lbmcoc.ca
SUMMARY:Fun & Fit
DESCRIPTION:
URL:https://lbmcoc.ca/event/fun-fit/2027-02-22/
LOCATION:Justina Centre\, 108 Outer Cove Rd\, Outer Cove\, NL\, A1K 4E1
END:VEVENT
BEGIN:VEVENT
DTSTART;TZID=America/St_Johns:20270223T093000
DTEND;TZID=America/St_Johns:20270223T103000
DTSTAMP:20260424T064857
CREATED:20260331T135613Z
LAST-MODIFIED:20260331T135613Z
UID:10005394-1803375000-1803378600@lbmcoc.ca
SUMMARY:Yoga
DESCRIPTION:
URL:https://lbmcoc.ca/event/yoga/2027-02-23/
LOCATION:NL
END:VEVENT
BEGIN:VEVENT
DTSTART;TZID=America/St_Johns:20270225T093000
DTEND;TZID=America/St_Johns:20270225T103000
DTSTAMP:20260424T064857
CREATED:20260331T135710Z
LAST-MODIFIED:20260331T135710Z
UID:10005452-1803547800-1803551400@lbmcoc.ca
SUMMARY:Yoga
DESCRIPTION:
URL:https://lbmcoc.ca/event/yoga-2/2027-02-25/
LOCATION:NL
END:VEVENT
BEGIN:VEVENT
DTSTART;TZID=America/St_Johns:20270301T093000
DTEND;TZID=America/St_Johns:20270301T103000
DTSTAMP:20260424T064857
CREATED:20260331T135417Z
LAST-MODIFIED:20260331T135417Z
UID:10005337-1803893400-1803897000@lbmcoc.ca
SUMMARY:Fun & Fit
DESCRIPTION:
URL:https://lbmcoc.ca/event/fun-fit/2027-03-01/
LOCATION:Justina Centre\, 108 Outer Cove Rd\, Outer Cove\, NL\, A1K 4E1
END:VEVENT
BEGIN:VEVENT
DTSTART;TZID=America/St_Johns:20270302T093000
DTEND;TZID=America/St_Johns:20270302T103000
DTSTAMP:20260424T064857
CREATED:20260331T135613Z
LAST-MODIFIED:20260331T135613Z
UID:10005395-1803979800-1803983400@lbmcoc.ca
SUMMARY:Yoga
DESCRIPTION:
URL:https://lbmcoc.ca/event/yoga/2027-03-02/
LOCATION:NL
END:VEVENT
BEGIN:VEVENT
DTSTART;TZID=America/St_Johns:20270304T093000
DTEND;TZID=America/St_Johns:20270304T103000
DTSTAMP:20260424T064857
CREATED:20260331T135710Z
LAST-MODIFIED:20260331T135710Z
UID:10005453-1804152600-1804156200@lbmcoc.ca
SUMMARY:Yoga
DESCRIPTION:
URL:https://lbmcoc.ca/event/yoga-2/2027-03-04/
LOCATION:NL
END:VEVENT
BEGIN:VEVENT
DTSTART;TZID=America/St_Johns:20270308T093000
DTEND;TZID=America/St_Johns:20270308T103000
DTSTAMP:20260424T064857
CREATED:20260331T135417Z
LAST-MODIFIED:20260331T135417Z
UID:10005338-1804498200-1804501800@lbmcoc.ca
SUMMARY:Fun & Fit
DESCRIPTION:
URL:https://lbmcoc.ca/event/fun-fit/2027-03-08/
LOCATION:Justina Centre\, 108 Outer Cove Rd\, Outer Cove\, NL\, A1K 4E1
END:VEVENT
BEGIN:VEVENT
DTSTART;TZID=America/St_Johns:20270309T093000
DTEND;TZID=America/St_Johns:20270309T103000
DTSTAMP:20260424T064857
CREATED:20260331T135613Z
LAST-MODIFIED:20260331T135613Z
UID:10005396-1804584600-1804588200@lbmcoc.ca
SUMMARY:Yoga
DESCRIPTION:
URL:https://lbmcoc.ca/event/yoga/2027-03-09/
LOCATION:NL
END:VEVENT
BEGIN:VEVENT
DTSTART;TZID=America/St_Johns:20270311T093000
DTEND;TZID=America/St_Johns:20270311T103000
DTSTAMP:20260424T064857
CREATED:20260331T135710Z
LAST-MODIFIED:20260331T135710Z
UID:10005454-1804757400-1804761000@lbmcoc.ca
SUMMARY:Yoga
DESCRIPTION:
URL:https://lbmcoc.ca/event/yoga-2/2027-03-11/
LOCATION:NL
END:VEVENT
BEGIN:VEVENT
DTSTART;TZID=America/St_Johns:20270315T093000
DTEND;TZID=America/St_Johns:20270315T103000
DTSTAMP:20260424T064857
CREATED:20260331T135417Z
LAST-MODIFIED:20260331T135417Z
UID:10005339-1805103000-1805106600@lbmcoc.ca
SUMMARY:Fun & Fit
DESCRIPTION:
URL:https://lbmcoc.ca/event/fun-fit/2027-03-15/
LOCATION:Justina Centre\, 108 Outer Cove Rd\, Outer Cove\, NL\, A1K 4E1
END:VEVENT
BEGIN:VEVENT
DTSTART;TZID=America/St_Johns:20270316T093000
DTEND;TZID=America/St_Johns:20270316T103000
DTSTAMP:20260424T064857
CREATED:20260331T135613Z
LAST-MODIFIED:20260331T135613Z
UID:10005397-1805189400-1805193000@lbmcoc.ca
SUMMARY:Yoga
DESCRIPTION:
URL:https://lbmcoc.ca/event/yoga/2027-03-16/
LOCATION:NL
END:VEVENT
BEGIN:VEVENT
DTSTART;TZID=America/St_Johns:20270318T093000
DTEND;TZID=America/St_Johns:20270318T103000
DTSTAMP:20260424T064857
CREATED:20260331T135710Z
LAST-MODIFIED:20260331T135710Z
UID:10005455-1805362200-1805365800@lbmcoc.ca
SUMMARY:Yoga
DESCRIPTION:
URL:https://lbmcoc.ca/event/yoga-2/2027-03-18/
LOCATION:NL
END:VEVENT
BEGIN:VEVENT
DTSTART;TZID=America/St_Johns:20270322T093000
DTEND;TZID=America/St_Johns:20270322T103000
DTSTAMP:20260424T064857
CREATED:20260331T135417Z
LAST-MODIFIED:20260331T135417Z
UID:10005340-1805707800-1805711400@lbmcoc.ca
SUMMARY:Fun & Fit
DESCRIPTION:
URL:https://lbmcoc.ca/event/fun-fit/2027-03-22/
LOCATION:Justina Centre\, 108 Outer Cove Rd\, Outer Cove\, NL\, A1K 4E1
END:VEVENT
BEGIN:VEVENT
DTSTART;TZID=America/St_Johns:20270323T093000
DTEND;TZID=America/St_Johns:20270323T103000
DTSTAMP:20260424T064857
CREATED:20260331T135613Z
LAST-MODIFIED:20260331T135613Z
UID:10005398-1805794200-1805797800@lbmcoc.ca
SUMMARY:Yoga
DESCRIPTION:
URL:https://lbmcoc.ca/event/yoga/2027-03-23/
LOCATION:NL
END:VEVENT
BEGIN:VEVENT
DTSTART;TZID=America/St_Johns:20270325T093000
DTEND;TZID=America/St_Johns:20270325T103000
DTSTAMP:20260424T064857
CREATED:20260331T135710Z
LAST-MODIFIED:20260331T135710Z
UID:10005456-1805967000-1805970600@lbmcoc.ca
SUMMARY:Yoga
DESCRIPTION:
URL:https://lbmcoc.ca/event/yoga-2/2027-03-25/
LOCATION:NL
END:VEVENT
BEGIN:VEVENT
DTSTART;TZID=America/St_Johns:20270329T093000
DTEND;TZID=America/St_Johns:20270329T103000
DTSTAMP:20260424T064857
CREATED:20260331T135417Z
LAST-MODIFIED:20260331T135417Z
UID:10005341-1806312600-1806316200@lbmcoc.ca
SUMMARY:Fun & Fit
DESCRIPTION:
URL:https://lbmcoc.ca/event/fun-fit/2027-03-29/
LOCATION:Justina Centre\, 108 Outer Cove Rd\, Outer Cove\, NL\, A1K 4E1
END:VEVENT
BEGIN:VEVENT
DTSTART;TZID=America/St_Johns:20270330T093000
DTEND;TZID=America/St_Johns:20270330T103000
DTSTAMP:20260424T064857
CREATED:20260331T135613Z
LAST-MODIFIED:20260331T135613Z
UID:10005399-1806399000-1806402600@lbmcoc.ca
SUMMARY:Yoga
DESCRIPTION:
URL:https://lbmcoc.ca/event/yoga/2027-03-30/
LOCATION:NL
END:VEVENT
BEGIN:VEVENT
DTSTART;TZID=America/St_Johns:20270401T093000
DTEND;TZID=America/St_Johns:20270401T103000
DTSTAMP:20260424T064857
CREATED:20260331T135710Z
LAST-MODIFIED:20260331T135710Z
UID:10005457-1806571800-1806575400@lbmcoc.ca
SUMMARY:Yoga
DESCRIPTION:
URL:https://lbmcoc.ca/event/yoga-2/2027-04-01/
LOCATION:NL
END:VEVENT
BEGIN:VEVENT
DTSTART;TZID=America/St_Johns:20270405T093000
DTEND;TZID=America/St_Johns:20270405T103000
DTSTAMP:20260424T064857
CREATED:20260331T135417Z
LAST-MODIFIED:20260331T135417Z
UID:10005342-1806917400-1806921000@lbmcoc.ca
SUMMARY:Fun & Fit
DESCRIPTION:
URL:https://lbmcoc.ca/event/fun-fit/2027-04-05/
LOCATION:Justina Centre\, 108 Outer Cove Rd\, Outer Cove\, NL\, A1K 4E1
END:VEVENT
BEGIN:VEVENT
DTSTART;TZID=America/St_Johns:20270406T093000
DTEND;TZID=America/St_Johns:20270406T103000
DTSTAMP:20260424T064857
CREATED:20260331T135613Z
LAST-MODIFIED:20260331T135613Z
UID:10005400-1807003800-1807007400@lbmcoc.ca
SUMMARY:Yoga
DESCRIPTION:
URL:https://lbmcoc.ca/event/yoga/2027-04-06/
LOCATION:NL
END:VEVENT
BEGIN:VEVENT
DTSTART;TZID=America/St_Johns:20270408T093000
DTEND;TZID=America/St_Johns:20270408T103000
DTSTAMP:20260424T064857
CREATED:20260331T135710Z
LAST-MODIFIED:20260331T135710Z
UID:10005458-1807176600-1807180200@lbmcoc.ca
SUMMARY:Yoga
DESCRIPTION:
URL:https://lbmcoc.ca/event/yoga-2/2027-04-08/
LOCATION:NL
END:VEVENT
BEGIN:VEVENT
DTSTART;TZID=America/St_Johns:20270412T093000
DTEND;TZID=America/St_Johns:20270412T103000
DTSTAMP:20260424T064857
CREATED:20260331T135417Z
LAST-MODIFIED:20260331T135417Z
UID:10005343-1807522200-1807525800@lbmcoc.ca
SUMMARY:Fun & Fit
DESCRIPTION:
URL:https://lbmcoc.ca/event/fun-fit/2027-04-12/
LOCATION:Justina Centre\, 108 Outer Cove Rd\, Outer Cove\, NL\, A1K 4E1
END:VEVENT
BEGIN:VEVENT
DTSTART;TZID=America/St_Johns:20270413T093000
DTEND;TZID=America/St_Johns:20270413T103000
DTSTAMP:20260424T064857
CREATED:20260331T135613Z
LAST-MODIFIED:20260331T135613Z
UID:10005401-1807608600-1807612200@lbmcoc.ca
SUMMARY:Yoga
DESCRIPTION:
URL:https://lbmcoc.ca/event/yoga/2027-04-13/
LOCATION:NL
END:VEVENT
BEGIN:VEVENT
DTSTART;TZID=America/St_Johns:20270415T093000
DTEND;TZID=America/St_Johns:20270415T103000
DTSTAMP:20260424T064857
CREATED:20260331T135710Z
LAST-MODIFIED:20260331T135710Z
UID:10005459-1807781400-1807785000@lbmcoc.ca
SUMMARY:Yoga
DESCRIPTION:
URL:https://lbmcoc.ca/event/yoga-2/2027-04-15/
LOCATION:NL
END:VEVENT
BEGIN:VEVENT
DTSTART;TZID=America/St_Johns:20270419T093000
DTEND;TZID=America/St_Johns:20270419T103000
DTSTAMP:20260424T064857
CREATED:20260331T135417Z
LAST-MODIFIED:20260331T135417Z
UID:10005344-1808127000-1808130600@lbmcoc.ca
SUMMARY:Fun & Fit
DESCRIPTION:
URL:https://lbmcoc.ca/event/fun-fit/2027-04-19/
LOCATION:Justina Centre\, 108 Outer Cove Rd\, Outer Cove\, NL\, A1K 4E1
END:VEVENT
BEGIN:VEVENT
DTSTART;TZID=America/St_Johns:20270420T093000
DTEND;TZID=America/St_Johns:20270420T103000
DTSTAMP:20260424T064857
CREATED:20260331T135613Z
LAST-MODIFIED:20260331T135613Z
UID:10005402-1808213400-1808217000@lbmcoc.ca
SUMMARY:Yoga
DESCRIPTION:
URL:https://lbmcoc.ca/event/yoga/2027-04-20/
LOCATION:NL
END:VEVENT
BEGIN:VEVENT
DTSTART;TZID=America/St_Johns:20270422T093000
DTEND;TZID=America/St_Johns:20270422T103000
DTSTAMP:20260424T064857
CREATED:20260331T135710Z
LAST-MODIFIED:20260331T135710Z
UID:10005460-1808386200-1808389800@lbmcoc.ca
SUMMARY:Yoga
DESCRIPTION:
URL:https://lbmcoc.ca/event/yoga-2/2027-04-22/
LOCATION:NL
END:VEVENT
BEGIN:VEVENT
DTSTART;TZID=America/St_Johns:20270426T093000
DTEND;TZID=America/St_Johns:20270426T103000
DTSTAMP:20260424T064857
CREATED:20260331T135417Z
LAST-MODIFIED:20260331T135417Z
UID:10005345-1808731800-1808735400@lbmcoc.ca
SUMMARY:Fun & Fit
DESCRIPTION:
URL:https://lbmcoc.ca/event/fun-fit/2027-04-26/
LOCATION:Justina Centre\, 108 Outer Cove Rd\, Outer Cove\, NL\, A1K 4E1
END:VEVENT
BEGIN:VEVENT
DTSTART;TZID=America/St_Johns:20270427T093000
DTEND;TZID=America/St_Johns:20270427T103000
DTSTAMP:20260424T064857
CREATED:20260331T135613Z
LAST-MODIFIED:20260331T135613Z
UID:10005403-1808818200-1808821800@lbmcoc.ca
SUMMARY:Yoga
DESCRIPTION:
URL:https://lbmcoc.ca/event/yoga/2027-04-27/
LOCATION:NL
END:VEVENT
END:VCALENDAR