BEGIN:VCALENDAR
VERSION:2.0
PRODID:-//Logy Bay - Middle Cove - Outer Cove - ECPv6.15.19//NONSGML v1.0//EN
CALSCALE:GREGORIAN
METHOD:PUBLISH
X-ORIGINAL-URL:https://lbmcoc.ca
X-WR-CALDESC:Events for Logy Bay - Middle Cove - Outer Cove
REFRESH-INTERVAL;VALUE=DURATION:PT1H
X-Robots-Tag:noindex
X-PUBLISHED-TTL:PT1H
BEGIN:VTIMEZONE
TZID:America/St_Johns
BEGIN:DAYLIGHT
TZOFFSETFROM:-0330
TZOFFSETTO:-0230
TZNAME:NDT
DTSTART:20250309T053000
END:DAYLIGHT
BEGIN:STANDARD
TZOFFSETFROM:-0230
TZOFFSETTO:-0330
TZNAME:NST
DTSTART:20251102T043000
END:STANDARD
BEGIN:DAYLIGHT
TZOFFSETFROM:-0330
TZOFFSETTO:-0230
TZNAME:NDT
DTSTART:20260308T053000
END:DAYLIGHT
BEGIN:STANDARD
TZOFFSETFROM:-0230
TZOFFSETTO:-0330
TZNAME:NST
DTSTART:20261101T043000
END:STANDARD
BEGIN:DAYLIGHT
TZOFFSETFROM:-0330
TZOFFSETTO:-0230
TZNAME:NDT
DTSTART:20270314T053000
END:DAYLIGHT
BEGIN:STANDARD
TZOFFSETFROM:-0230
TZOFFSETTO:-0330
TZNAME:NST
DTSTART:20271107T043000
END:STANDARD
END:VTIMEZONE
BEGIN:VEVENT
DTSTART;TZID=America/St_Johns:20260519T093000
DTEND;TZID=America/St_Johns:20260519T103000
DTSTAMP:20260423T185831
CREATED:20260331T135613Z
LAST-MODIFIED:20260331T135613Z
UID:10005354-1779183000-1779186600@lbmcoc.ca
SUMMARY:Yoga
DESCRIPTION:
URL:https://lbmcoc.ca/event/yoga/2026-05-19/
LOCATION:NL
END:VEVENT
BEGIN:VEVENT
DTSTART;TZID=America/St_Johns:20260519T190000
DTEND;TZID=America/St_Johns:20260519T200000
DTSTAMP:20260423T185831
CREATED:20260331T135919Z
LAST-MODIFIED:20260331T135919Z
UID:10005466-1779217200-1779220800@lbmcoc.ca
SUMMARY:Yoga
DESCRIPTION:
URL:https://lbmcoc.ca/event/yoga-3/2026-05-19/
LOCATION:Justina Centre\, 108 Outer Cove Rd\, Outer Cove\, NL\, A1K 4E1
END:VEVENT
BEGIN:VEVENT
DTSTART;TZID=America/St_Johns:20260520T190000
DTEND;TZID=America/St_Johns:20260520T200000
DTSTAMP:20260423T185831
CREATED:20260331T140146Z
LAST-MODIFIED:20260331T140146Z
UID:10005483-1779303600-1779307200@lbmcoc.ca
SUMMARY:Zumba
DESCRIPTION:
URL:https://lbmcoc.ca/event/zumba/2026-05-20/
LOCATION:Justina Centre\, 108 Outer Cove Rd\, Outer Cove\, NL\, A1K 4E1
END:VEVENT
BEGIN:VEVENT
DTSTART;TZID=America/St_Johns:20260521T093000
DTEND;TZID=America/St_Johns:20260521T103000
DTSTAMP:20260423T185831
CREATED:20260331T135710Z
LAST-MODIFIED:20260331T135710Z
UID:10005412-1779355800-1779359400@lbmcoc.ca
SUMMARY:Yoga
DESCRIPTION:
URL:https://lbmcoc.ca/event/yoga-2/2026-05-21/
LOCATION:NL
END:VEVENT
BEGIN:VEVENT
DTSTART;TZID=America/St_Johns:20260522T000000
DTEND;TZID=America/St_Johns:20260522T000000
DTSTAMP:20260423T185831
CREATED:20260417T134715Z
LAST-MODIFIED:20260417T134802Z
UID:10005500-1779408000-1779408000@lbmcoc.ca
SUMMARY:Johnny & Maes's Food Truck
DESCRIPTION:
URL:https://lbmcoc.ca/event/johnny-mess-food-truck/2026-05-22/
LOCATION:Kelly Park\, 108 Outer Cove Road\, Outer Cove\, Newfoundland and Labrador\, A1K4E2\, Canada
END:VEVENT
BEGIN:VEVENT
DTSTART;TZID=America/St_Johns:20260523T080000
DTEND;TZID=America/St_Johns:20260523T170000
DTSTAMP:20260423T185831
CREATED:20260417T134715Z
LAST-MODIFIED:20260417T134802Z
UID:10005502-1779523200-1779555600@lbmcoc.ca
SUMMARY:Johnny & Maes's Food Truck
DESCRIPTION:
URL:https://lbmcoc.ca/event/johnny-mess-food-truck/2026-05-23/
LOCATION:Kelly Park\, 108 Outer Cove Road\, Outer Cove\, Newfoundland and Labrador\, A1K4E2\, Canada
END:VEVENT
BEGIN:VEVENT
DTSTART;TZID=America/St_Johns:20260523T100000
DTEND;TZID=America/St_Johns:20260523T110000
DTSTAMP:20260423T185831
CREATED:20260331T140035Z
LAST-MODIFIED:20260331T140743Z
UID:10005476-1779530400-1779534000@lbmcoc.ca
SUMMARY:Body Flow
DESCRIPTION:
URL:https://lbmcoc.ca/event/body-flow/2026-05-23/
LOCATION:Justina Centre\, 108 Outer Cove Rd\, Outer Cove\, NL\, A1K 4E1
END:VEVENT
BEGIN:VEVENT
DTSTART;TZID=America/St_Johns:20260525T093000
DTEND;TZID=America/St_Johns:20260525T103000
DTSTAMP:20260423T185831
CREATED:20260331T135417Z
LAST-MODIFIED:20260331T135417Z
UID:10005297-1779701400-1779705000@lbmcoc.ca
SUMMARY:Fun & Fit
DESCRIPTION:
URL:https://lbmcoc.ca/event/fun-fit/2026-05-25/
LOCATION:Justina Centre\, 108 Outer Cove Rd\, Outer Cove\, NL\, A1K 4E1
END:VEVENT
BEGIN:VEVENT
DTSTART;TZID=America/St_Johns:20260526T093000
DTEND;TZID=America/St_Johns:20260526T103000
DTSTAMP:20260423T185831
CREATED:20260331T135613Z
LAST-MODIFIED:20260331T135613Z
UID:10005355-1779787800-1779791400@lbmcoc.ca
SUMMARY:Yoga
DESCRIPTION:
URL:https://lbmcoc.ca/event/yoga/2026-05-26/
LOCATION:NL
END:VEVENT
BEGIN:VEVENT
DTSTART;TZID=America/St_Johns:20260526T190000
DTEND;TZID=America/St_Johns:20260526T200000
DTSTAMP:20260423T185831
CREATED:20260331T135919Z
LAST-MODIFIED:20260331T135919Z
UID:10005467-1779822000-1779825600@lbmcoc.ca
SUMMARY:Yoga
DESCRIPTION:
URL:https://lbmcoc.ca/event/yoga-3/2026-05-26/
LOCATION:Justina Centre\, 108 Outer Cove Rd\, Outer Cove\, NL\, A1K 4E1
END:VEVENT
BEGIN:VEVENT
DTSTART;TZID=America/St_Johns:20260527T190000
DTEND;TZID=America/St_Johns:20260527T200000
DTSTAMP:20260423T185831
CREATED:20260331T140146Z
LAST-MODIFIED:20260331T140146Z
UID:10005484-1779908400-1779912000@lbmcoc.ca
SUMMARY:Zumba
DESCRIPTION:
URL:https://lbmcoc.ca/event/zumba/2026-05-27/
LOCATION:Justina Centre\, 108 Outer Cove Rd\, Outer Cove\, NL\, A1K 4E1
END:VEVENT
BEGIN:VEVENT
DTSTART;TZID=America/St_Johns:20260528T093000
DTEND;TZID=America/St_Johns:20260528T103000
DTSTAMP:20260423T185831
CREATED:20260331T135710Z
LAST-MODIFIED:20260331T135710Z
UID:10005413-1779960600-1779964200@lbmcoc.ca
SUMMARY:Yoga
DESCRIPTION:
URL:https://lbmcoc.ca/event/yoga-2/2026-05-28/
LOCATION:NL
END:VEVENT
BEGIN:VEVENT
DTSTART;TZID=America/St_Johns:20260601T093000
DTEND;TZID=America/St_Johns:20260601T103000
DTSTAMP:20260423T185831
CREATED:20260331T135417Z
LAST-MODIFIED:20260331T135417Z
UID:10005298-1780306200-1780309800@lbmcoc.ca
SUMMARY:Fun & Fit
DESCRIPTION:
URL:https://lbmcoc.ca/event/fun-fit/2026-06-01/
LOCATION:Justina Centre\, 108 Outer Cove Rd\, Outer Cove\, NL\, A1K 4E1
END:VEVENT
BEGIN:VEVENT
DTSTART;TZID=America/St_Johns:20260602T093000
DTEND;TZID=America/St_Johns:20260602T103000
DTSTAMP:20260423T185831
CREATED:20260331T135613Z
LAST-MODIFIED:20260331T135613Z
UID:10005356-1780392600-1780396200@lbmcoc.ca
SUMMARY:Yoga
DESCRIPTION:
URL:https://lbmcoc.ca/event/yoga/2026-06-02/
LOCATION:NL
END:VEVENT
BEGIN:VEVENT
DTSTART;TZID=America/St_Johns:20260602T190000
DTEND;TZID=America/St_Johns:20260602T200000
DTSTAMP:20260423T185831
CREATED:20260331T135919Z
LAST-MODIFIED:20260331T135919Z
UID:10005468-1780426800-1780430400@lbmcoc.ca
SUMMARY:Yoga
DESCRIPTION:
URL:https://lbmcoc.ca/event/yoga-3/2026-06-02/
LOCATION:Justina Centre\, 108 Outer Cove Rd\, Outer Cove\, NL\, A1K 4E1
END:VEVENT
BEGIN:VEVENT
DTSTART;TZID=America/St_Johns:20260604T093000
DTEND;TZID=America/St_Johns:20260604T103000
DTSTAMP:20260423T185831
CREATED:20260331T135710Z
LAST-MODIFIED:20260331T135710Z
UID:10005414-1780565400-1780569000@lbmcoc.ca
SUMMARY:Yoga
DESCRIPTION:
URL:https://lbmcoc.ca/event/yoga-2/2026-06-04/
LOCATION:NL
END:VEVENT
BEGIN:VEVENT
DTSTART;TZID=America/St_Johns:20260608T093000
DTEND;TZID=America/St_Johns:20260608T103000
DTSTAMP:20260423T185831
CREATED:20260331T135417Z
LAST-MODIFIED:20260331T135417Z
UID:10005299-1780911000-1780914600@lbmcoc.ca
SUMMARY:Fun & Fit
DESCRIPTION:
URL:https://lbmcoc.ca/event/fun-fit/2026-06-08/
LOCATION:Justina Centre\, 108 Outer Cove Rd\, Outer Cove\, NL\, A1K 4E1
END:VEVENT
BEGIN:VEVENT
DTSTART;TZID=America/St_Johns:20260609T093000
DTEND;TZID=America/St_Johns:20260609T103000
DTSTAMP:20260423T185831
CREATED:20260331T135613Z
LAST-MODIFIED:20260331T135613Z
UID:10005357-1780997400-1781001000@lbmcoc.ca
SUMMARY:Yoga
DESCRIPTION:
URL:https://lbmcoc.ca/event/yoga/2026-06-09/
LOCATION:NL
END:VEVENT
BEGIN:VEVENT
DTSTART;TZID=America/St_Johns:20260609T190000
DTEND;TZID=America/St_Johns:20260609T200000
DTSTAMP:20260423T185831
CREATED:20260331T135919Z
LAST-MODIFIED:20260331T135919Z
UID:10005469-1781031600-1781035200@lbmcoc.ca
SUMMARY:Yoga
DESCRIPTION:
URL:https://lbmcoc.ca/event/yoga-3/2026-06-09/
LOCATION:Justina Centre\, 108 Outer Cove Rd\, Outer Cove\, NL\, A1K 4E1
END:VEVENT
BEGIN:VEVENT
DTSTART;TZID=America/St_Johns:20260611T093000
DTEND;TZID=America/St_Johns:20260611T103000
DTSTAMP:20260423T185831
CREATED:20260331T135710Z
LAST-MODIFIED:20260331T135710Z
UID:10005415-1781170200-1781173800@lbmcoc.ca
SUMMARY:Yoga
DESCRIPTION:
URL:https://lbmcoc.ca/event/yoga-2/2026-06-11/
LOCATION:NL
END:VEVENT
BEGIN:VEVENT
DTSTART;TZID=America/St_Johns:20260615T093000
DTEND;TZID=America/St_Johns:20260615T103000
DTSTAMP:20260423T185831
CREATED:20260331T135417Z
LAST-MODIFIED:20260331T135417Z
UID:10005300-1781515800-1781519400@lbmcoc.ca
SUMMARY:Fun & Fit
DESCRIPTION:
URL:https://lbmcoc.ca/event/fun-fit/2026-06-15/
LOCATION:Justina Centre\, 108 Outer Cove Rd\, Outer Cove\, NL\, A1K 4E1
END:VEVENT
BEGIN:VEVENT
DTSTART;TZID=America/St_Johns:20260616T093000
DTEND;TZID=America/St_Johns:20260616T103000
DTSTAMP:20260423T185831
CREATED:20260331T135613Z
LAST-MODIFIED:20260331T135613Z
UID:10005358-1781602200-1781605800@lbmcoc.ca
SUMMARY:Yoga
DESCRIPTION:
URL:https://lbmcoc.ca/event/yoga/2026-06-16/
LOCATION:NL
END:VEVENT
BEGIN:VEVENT
DTSTART;TZID=America/St_Johns:20260618T093000
DTEND;TZID=America/St_Johns:20260618T103000
DTSTAMP:20260423T185831
CREATED:20260331T135710Z
LAST-MODIFIED:20260331T135710Z
UID:10005416-1781775000-1781778600@lbmcoc.ca
SUMMARY:Yoga
DESCRIPTION:
URL:https://lbmcoc.ca/event/yoga-2/2026-06-18/
LOCATION:NL
END:VEVENT
BEGIN:VEVENT
DTSTART;TZID=America/St_Johns:20260622T093000
DTEND;TZID=America/St_Johns:20260622T103000
DTSTAMP:20260423T185831
CREATED:20260331T135417Z
LAST-MODIFIED:20260331T135417Z
UID:10005301-1782120600-1782124200@lbmcoc.ca
SUMMARY:Fun & Fit
DESCRIPTION:
URL:https://lbmcoc.ca/event/fun-fit/2026-06-22/
LOCATION:Justina Centre\, 108 Outer Cove Rd\, Outer Cove\, NL\, A1K 4E1
END:VEVENT
BEGIN:VEVENT
DTSTART;TZID=America/St_Johns:20260623T093000
DTEND;TZID=America/St_Johns:20260623T103000
DTSTAMP:20260423T185831
CREATED:20260331T135613Z
LAST-MODIFIED:20260331T135613Z
UID:10005359-1782207000-1782210600@lbmcoc.ca
SUMMARY:Yoga
DESCRIPTION:
URL:https://lbmcoc.ca/event/yoga/2026-06-23/
LOCATION:NL
END:VEVENT
BEGIN:VEVENT
DTSTART;TZID=America/St_Johns:20260625T093000
DTEND;TZID=America/St_Johns:20260625T103000
DTSTAMP:20260423T185831
CREATED:20260331T135710Z
LAST-MODIFIED:20260331T135710Z
UID:10005417-1782379800-1782383400@lbmcoc.ca
SUMMARY:Yoga
DESCRIPTION:
URL:https://lbmcoc.ca/event/yoga-2/2026-06-25/
LOCATION:NL
END:VEVENT
BEGIN:VEVENT
DTSTART;TZID=America/St_Johns:20260629T093000
DTEND;TZID=America/St_Johns:20260629T103000
DTSTAMP:20260423T185831
CREATED:20260331T135417Z
LAST-MODIFIED:20260331T135417Z
UID:10005302-1782725400-1782729000@lbmcoc.ca
SUMMARY:Fun & Fit
DESCRIPTION:
URL:https://lbmcoc.ca/event/fun-fit/2026-06-29/
LOCATION:Justina Centre\, 108 Outer Cove Rd\, Outer Cove\, NL\, A1K 4E1
END:VEVENT
BEGIN:VEVENT
DTSTART;TZID=America/St_Johns:20260630T093000
DTEND;TZID=America/St_Johns:20260630T103000
DTSTAMP:20260423T185831
CREATED:20260331T135613Z
LAST-MODIFIED:20260331T135613Z
UID:10005360-1782811800-1782815400@lbmcoc.ca
SUMMARY:Yoga
DESCRIPTION:
URL:https://lbmcoc.ca/event/yoga/2026-06-30/
LOCATION:NL
END:VEVENT
BEGIN:VEVENT
DTSTART;TZID=America/St_Johns:20260702T093000
DTEND;TZID=America/St_Johns:20260702T103000
DTSTAMP:20260423T185831
CREATED:20260331T135710Z
LAST-MODIFIED:20260331T135710Z
UID:10005418-1782984600-1782988200@lbmcoc.ca
SUMMARY:Yoga
DESCRIPTION:
URL:https://lbmcoc.ca/event/yoga-2/2026-07-02/
LOCATION:NL
END:VEVENT
BEGIN:VEVENT
DTSTART;TZID=America/St_Johns:20260706T093000
DTEND;TZID=America/St_Johns:20260706T103000
DTSTAMP:20260423T185831
CREATED:20260331T135417Z
LAST-MODIFIED:20260331T135417Z
UID:10005303-1783330200-1783333800@lbmcoc.ca
SUMMARY:Fun & Fit
DESCRIPTION:
URL:https://lbmcoc.ca/event/fun-fit/2026-07-06/
LOCATION:Justina Centre\, 108 Outer Cove Rd\, Outer Cove\, NL\, A1K 4E1
END:VEVENT
END:VCALENDAR