BEGIN:VCALENDAR
VERSION:2.0
PRODID:-//Logy Bay - Middle Cove - Outer Cove - ECPv6.15.19//NONSGML v1.0//EN
CALSCALE:GREGORIAN
METHOD:PUBLISH
X-ORIGINAL-URL:https://lbmcoc.ca
X-WR-CALDESC:Events for Logy Bay - Middle Cove - Outer Cove
REFRESH-INTERVAL;VALUE=DURATION:PT1H
X-Robots-Tag:noindex
X-PUBLISHED-TTL:PT1H
BEGIN:VTIMEZONE
TZID:America/St_Johns
BEGIN:DAYLIGHT
TZOFFSETFROM:-0330
TZOFFSETTO:-0230
TZNAME:NDT
DTSTART:20250309T053000
END:DAYLIGHT
BEGIN:STANDARD
TZOFFSETFROM:-0230
TZOFFSETTO:-0330
TZNAME:NST
DTSTART:20251102T043000
END:STANDARD
BEGIN:DAYLIGHT
TZOFFSETFROM:-0330
TZOFFSETTO:-0230
TZNAME:NDT
DTSTART:20260308T053000
END:DAYLIGHT
BEGIN:STANDARD
TZOFFSETFROM:-0230
TZOFFSETTO:-0330
TZNAME:NST
DTSTART:20261101T043000
END:STANDARD
BEGIN:DAYLIGHT
TZOFFSETFROM:-0330
TZOFFSETTO:-0230
TZNAME:NDT
DTSTART:20270314T053000
END:DAYLIGHT
BEGIN:STANDARD
TZOFFSETFROM:-0230
TZOFFSETTO:-0330
TZNAME:NST
DTSTART:20271107T043000
END:STANDARD
END:VTIMEZONE
BEGIN:VEVENT
DTSTART;TZID=America/St_Johns:20260810T093000
DTEND;TZID=America/St_Johns:20260810T103000
DTSTAMP:20260423T205230
CREATED:20260331T135417Z
LAST-MODIFIED:20260331T135417Z
UID:10005308-1786354200-1786357800@lbmcoc.ca
SUMMARY:Fun & Fit
DESCRIPTION:
URL:https://lbmcoc.ca/event/fun-fit/2026-08-10/
LOCATION:Justina Centre\, 108 Outer Cove Rd\, Outer Cove\, NL\, A1K 4E1
END:VEVENT
BEGIN:VEVENT
DTSTART;TZID=America/St_Johns:20260811T093000
DTEND;TZID=America/St_Johns:20260811T103000
DTSTAMP:20260423T205230
CREATED:20260331T135613Z
LAST-MODIFIED:20260331T135613Z
UID:10005366-1786440600-1786444200@lbmcoc.ca
SUMMARY:Yoga
DESCRIPTION:
URL:https://lbmcoc.ca/event/yoga/2026-08-11/
LOCATION:NL
END:VEVENT
BEGIN:VEVENT
DTSTART;TZID=America/St_Johns:20260813T093000
DTEND;TZID=America/St_Johns:20260813T103000
DTSTAMP:20260423T205230
CREATED:20260331T135710Z
LAST-MODIFIED:20260331T135710Z
UID:10005424-1786613400-1786617000@lbmcoc.ca
SUMMARY:Yoga
DESCRIPTION:
URL:https://lbmcoc.ca/event/yoga-2/2026-08-13/
LOCATION:NL
END:VEVENT
BEGIN:VEVENT
DTSTART;TZID=America/St_Johns:20260817T093000
DTEND;TZID=America/St_Johns:20260817T103000
DTSTAMP:20260423T205230
CREATED:20260331T135417Z
LAST-MODIFIED:20260331T135417Z
UID:10005309-1786959000-1786962600@lbmcoc.ca
SUMMARY:Fun & Fit
DESCRIPTION:
URL:https://lbmcoc.ca/event/fun-fit/2026-08-17/
LOCATION:Justina Centre\, 108 Outer Cove Rd\, Outer Cove\, NL\, A1K 4E1
END:VEVENT
BEGIN:VEVENT
DTSTART;TZID=America/St_Johns:20260818T093000
DTEND;TZID=America/St_Johns:20260818T103000
DTSTAMP:20260423T205230
CREATED:20260331T135613Z
LAST-MODIFIED:20260331T135613Z
UID:10005367-1787045400-1787049000@lbmcoc.ca
SUMMARY:Yoga
DESCRIPTION:
URL:https://lbmcoc.ca/event/yoga/2026-08-18/
LOCATION:NL
END:VEVENT
BEGIN:VEVENT
DTSTART;TZID=America/St_Johns:20260820T093000
DTEND;TZID=America/St_Johns:20260820T103000
DTSTAMP:20260423T205230
CREATED:20260331T135710Z
LAST-MODIFIED:20260331T135710Z
UID:10005425-1787218200-1787221800@lbmcoc.ca
SUMMARY:Yoga
DESCRIPTION:
URL:https://lbmcoc.ca/event/yoga-2/2026-08-20/
LOCATION:NL
END:VEVENT
BEGIN:VEVENT
DTSTART;TZID=America/St_Johns:20260824T093000
DTEND;TZID=America/St_Johns:20260824T103000
DTSTAMP:20260423T205230
CREATED:20260331T135417Z
LAST-MODIFIED:20260331T135417Z
UID:10005310-1787563800-1787567400@lbmcoc.ca
SUMMARY:Fun & Fit
DESCRIPTION:
URL:https://lbmcoc.ca/event/fun-fit/2026-08-24/
LOCATION:Justina Centre\, 108 Outer Cove Rd\, Outer Cove\, NL\, A1K 4E1
END:VEVENT
BEGIN:VEVENT
DTSTART;TZID=America/St_Johns:20260825T093000
DTEND;TZID=America/St_Johns:20260825T103000
DTSTAMP:20260423T205230
CREATED:20260331T135613Z
LAST-MODIFIED:20260331T135613Z
UID:10005368-1787650200-1787653800@lbmcoc.ca
SUMMARY:Yoga
DESCRIPTION:
URL:https://lbmcoc.ca/event/yoga/2026-08-25/
LOCATION:NL
END:VEVENT
BEGIN:VEVENT
DTSTART;TZID=America/St_Johns:20260827T093000
DTEND;TZID=America/St_Johns:20260827T103000
DTSTAMP:20260423T205230
CREATED:20260331T135710Z
LAST-MODIFIED:20260331T135710Z
UID:10005426-1787823000-1787826600@lbmcoc.ca
SUMMARY:Yoga
DESCRIPTION:
URL:https://lbmcoc.ca/event/yoga-2/2026-08-27/
LOCATION:NL
END:VEVENT
BEGIN:VEVENT
DTSTART;TZID=America/St_Johns:20260831T093000
DTEND;TZID=America/St_Johns:20260831T103000
DTSTAMP:20260423T205230
CREATED:20260331T135417Z
LAST-MODIFIED:20260331T135417Z
UID:10005311-1788168600-1788172200@lbmcoc.ca
SUMMARY:Fun & Fit
DESCRIPTION:
URL:https://lbmcoc.ca/event/fun-fit/2026-08-31/
LOCATION:Justina Centre\, 108 Outer Cove Rd\, Outer Cove\, NL\, A1K 4E1
END:VEVENT
BEGIN:VEVENT
DTSTART;TZID=America/St_Johns:20260901T093000
DTEND;TZID=America/St_Johns:20260901T103000
DTSTAMP:20260423T205230
CREATED:20260331T135613Z
LAST-MODIFIED:20260331T135613Z
UID:10005369-1788255000-1788258600@lbmcoc.ca
SUMMARY:Yoga
DESCRIPTION:
URL:https://lbmcoc.ca/event/yoga/2026-09-01/
LOCATION:NL
END:VEVENT
BEGIN:VEVENT
DTSTART;TZID=America/St_Johns:20260903T093000
DTEND;TZID=America/St_Johns:20260903T103000
DTSTAMP:20260423T205230
CREATED:20260331T135710Z
LAST-MODIFIED:20260331T135710Z
UID:10005427-1788427800-1788431400@lbmcoc.ca
SUMMARY:Yoga
DESCRIPTION:
URL:https://lbmcoc.ca/event/yoga-2/2026-09-03/
LOCATION:NL
END:VEVENT
BEGIN:VEVENT
DTSTART;TZID=America/St_Johns:20260907T093000
DTEND;TZID=America/St_Johns:20260907T103000
DTSTAMP:20260423T205230
CREATED:20260331T135417Z
LAST-MODIFIED:20260331T135417Z
UID:10005312-1788773400-1788777000@lbmcoc.ca
SUMMARY:Fun & Fit
DESCRIPTION:
URL:https://lbmcoc.ca/event/fun-fit/2026-09-07/
LOCATION:Justina Centre\, 108 Outer Cove Rd\, Outer Cove\, NL\, A1K 4E1
END:VEVENT
BEGIN:VEVENT
DTSTART;TZID=America/St_Johns:20260908T093000
DTEND;TZID=America/St_Johns:20260908T103000
DTSTAMP:20260423T205230
CREATED:20260331T135613Z
LAST-MODIFIED:20260331T135613Z
UID:10005370-1788859800-1788863400@lbmcoc.ca
SUMMARY:Yoga
DESCRIPTION:
URL:https://lbmcoc.ca/event/yoga/2026-09-08/
LOCATION:NL
END:VEVENT
BEGIN:VEVENT
DTSTART;TZID=America/St_Johns:20260910T093000
DTEND;TZID=America/St_Johns:20260910T103000
DTSTAMP:20260423T205230
CREATED:20260331T135710Z
LAST-MODIFIED:20260331T135710Z
UID:10005428-1789032600-1789036200@lbmcoc.ca
SUMMARY:Yoga
DESCRIPTION:
URL:https://lbmcoc.ca/event/yoga-2/2026-09-10/
LOCATION:NL
END:VEVENT
BEGIN:VEVENT
DTSTART;TZID=America/St_Johns:20260914T093000
DTEND;TZID=America/St_Johns:20260914T103000
DTSTAMP:20260423T205230
CREATED:20260331T135417Z
LAST-MODIFIED:20260331T135417Z
UID:10005313-1789378200-1789381800@lbmcoc.ca
SUMMARY:Fun & Fit
DESCRIPTION:
URL:https://lbmcoc.ca/event/fun-fit/2026-09-14/
LOCATION:Justina Centre\, 108 Outer Cove Rd\, Outer Cove\, NL\, A1K 4E1
END:VEVENT
BEGIN:VEVENT
DTSTART;TZID=America/St_Johns:20260915T093000
DTEND;TZID=America/St_Johns:20260915T103000
DTSTAMP:20260423T205230
CREATED:20260331T135613Z
LAST-MODIFIED:20260331T135613Z
UID:10005371-1789464600-1789468200@lbmcoc.ca
SUMMARY:Yoga
DESCRIPTION:
URL:https://lbmcoc.ca/event/yoga/2026-09-15/
LOCATION:NL
END:VEVENT
BEGIN:VEVENT
DTSTART;TZID=America/St_Johns:20260917T093000
DTEND;TZID=America/St_Johns:20260917T103000
DTSTAMP:20260423T205230
CREATED:20260331T135710Z
LAST-MODIFIED:20260331T135710Z
UID:10005429-1789637400-1789641000@lbmcoc.ca
SUMMARY:Yoga
DESCRIPTION:
URL:https://lbmcoc.ca/event/yoga-2/2026-09-17/
LOCATION:NL
END:VEVENT
BEGIN:VEVENT
DTSTART;TZID=America/St_Johns:20260921T093000
DTEND;TZID=America/St_Johns:20260921T103000
DTSTAMP:20260423T205231
CREATED:20260331T135417Z
LAST-MODIFIED:20260331T135417Z
UID:10005314-1789983000-1789986600@lbmcoc.ca
SUMMARY:Fun & Fit
DESCRIPTION:
URL:https://lbmcoc.ca/event/fun-fit/2026-09-21/
LOCATION:Justina Centre\, 108 Outer Cove Rd\, Outer Cove\, NL\, A1K 4E1
END:VEVENT
BEGIN:VEVENT
DTSTART;TZID=America/St_Johns:20260922T093000
DTEND;TZID=America/St_Johns:20260922T103000
DTSTAMP:20260423T205231
CREATED:20260331T135613Z
LAST-MODIFIED:20260331T135613Z
UID:10005372-1790069400-1790073000@lbmcoc.ca
SUMMARY:Yoga
DESCRIPTION:
URL:https://lbmcoc.ca/event/yoga/2026-09-22/
LOCATION:NL
END:VEVENT
BEGIN:VEVENT
DTSTART;TZID=America/St_Johns:20260924T093000
DTEND;TZID=America/St_Johns:20260924T103000
DTSTAMP:20260423T205231
CREATED:20260331T135710Z
LAST-MODIFIED:20260331T135710Z
UID:10005430-1790242200-1790245800@lbmcoc.ca
SUMMARY:Yoga
DESCRIPTION:
URL:https://lbmcoc.ca/event/yoga-2/2026-09-24/
LOCATION:NL
END:VEVENT
BEGIN:VEVENT
DTSTART;TZID=America/St_Johns:20260928T093000
DTEND;TZID=America/St_Johns:20260928T103000
DTSTAMP:20260423T205231
CREATED:20260331T135417Z
LAST-MODIFIED:20260331T135417Z
UID:10005315-1790587800-1790591400@lbmcoc.ca
SUMMARY:Fun & Fit
DESCRIPTION:
URL:https://lbmcoc.ca/event/fun-fit/2026-09-28/
LOCATION:Justina Centre\, 108 Outer Cove Rd\, Outer Cove\, NL\, A1K 4E1
END:VEVENT
BEGIN:VEVENT
DTSTART;TZID=America/St_Johns:20260929T093000
DTEND;TZID=America/St_Johns:20260929T103000
DTSTAMP:20260423T205231
CREATED:20260331T135613Z
LAST-MODIFIED:20260331T135613Z
UID:10005373-1790674200-1790677800@lbmcoc.ca
SUMMARY:Yoga
DESCRIPTION:
URL:https://lbmcoc.ca/event/yoga/2026-09-29/
LOCATION:NL
END:VEVENT
BEGIN:VEVENT
DTSTART;TZID=America/St_Johns:20261001T093000
DTEND;TZID=America/St_Johns:20261001T103000
DTSTAMP:20260423T205231
CREATED:20260331T135710Z
LAST-MODIFIED:20260331T135710Z
UID:10005431-1790847000-1790850600@lbmcoc.ca
SUMMARY:Yoga
DESCRIPTION:
URL:https://lbmcoc.ca/event/yoga-2/2026-10-01/
LOCATION:NL
END:VEVENT
BEGIN:VEVENT
DTSTART;TZID=America/St_Johns:20261005T093000
DTEND;TZID=America/St_Johns:20261005T103000
DTSTAMP:20260423T205231
CREATED:20260331T135417Z
LAST-MODIFIED:20260331T135417Z
UID:10005316-1791192600-1791196200@lbmcoc.ca
SUMMARY:Fun & Fit
DESCRIPTION:
URL:https://lbmcoc.ca/event/fun-fit/2026-10-05/
LOCATION:Justina Centre\, 108 Outer Cove Rd\, Outer Cove\, NL\, A1K 4E1
END:VEVENT
BEGIN:VEVENT
DTSTART;TZID=America/St_Johns:20261006T093000
DTEND;TZID=America/St_Johns:20261006T103000
DTSTAMP:20260423T205231
CREATED:20260331T135613Z
LAST-MODIFIED:20260331T135613Z
UID:10005374-1791279000-1791282600@lbmcoc.ca
SUMMARY:Yoga
DESCRIPTION:
URL:https://lbmcoc.ca/event/yoga/2026-10-06/
LOCATION:NL
END:VEVENT
BEGIN:VEVENT
DTSTART;TZID=America/St_Johns:20261008T093000
DTEND;TZID=America/St_Johns:20261008T103000
DTSTAMP:20260423T205231
CREATED:20260331T135710Z
LAST-MODIFIED:20260331T135710Z
UID:10005432-1791451800-1791455400@lbmcoc.ca
SUMMARY:Yoga
DESCRIPTION:
URL:https://lbmcoc.ca/event/yoga-2/2026-10-08/
LOCATION:NL
END:VEVENT
BEGIN:VEVENT
DTSTART;TZID=America/St_Johns:20261012T093000
DTEND;TZID=America/St_Johns:20261012T103000
DTSTAMP:20260423T205231
CREATED:20260331T135417Z
LAST-MODIFIED:20260331T135417Z
UID:10005317-1791797400-1791801000@lbmcoc.ca
SUMMARY:Fun & Fit
DESCRIPTION:
URL:https://lbmcoc.ca/event/fun-fit/2026-10-12/
LOCATION:Justina Centre\, 108 Outer Cove Rd\, Outer Cove\, NL\, A1K 4E1
END:VEVENT
BEGIN:VEVENT
DTSTART;TZID=America/St_Johns:20261013T093000
DTEND;TZID=America/St_Johns:20261013T103000
DTSTAMP:20260423T205231
CREATED:20260331T135613Z
LAST-MODIFIED:20260331T135613Z
UID:10005375-1791883800-1791887400@lbmcoc.ca
SUMMARY:Yoga
DESCRIPTION:
URL:https://lbmcoc.ca/event/yoga/2026-10-13/
LOCATION:NL
END:VEVENT
BEGIN:VEVENT
DTSTART;TZID=America/St_Johns:20261015T093000
DTEND;TZID=America/St_Johns:20261015T103000
DTSTAMP:20260423T205231
CREATED:20260331T135710Z
LAST-MODIFIED:20260331T135710Z
UID:10005433-1792056600-1792060200@lbmcoc.ca
SUMMARY:Yoga
DESCRIPTION:
URL:https://lbmcoc.ca/event/yoga-2/2026-10-15/
LOCATION:NL
END:VEVENT
END:VCALENDAR