BEGIN:VCALENDAR
VERSION:2.0
PRODID:-//Logy Bay - Middle Cove - Outer Cove - ECPv6.15.19//NONSGML v1.0//EN
CALSCALE:GREGORIAN
METHOD:PUBLISH
X-ORIGINAL-URL:https://lbmcoc.ca
X-WR-CALDESC:Events for Logy Bay - Middle Cove - Outer Cove
REFRESH-INTERVAL;VALUE=DURATION:PT1H
X-Robots-Tag:noindex
X-PUBLISHED-TTL:PT1H
BEGIN:VTIMEZONE
TZID:America/St_Johns
BEGIN:DAYLIGHT
TZOFFSETFROM:-0330
TZOFFSETTO:-0230
TZNAME:NDT
DTSTART:20260308T053000
END:DAYLIGHT
BEGIN:STANDARD
TZOFFSETFROM:-0230
TZOFFSETTO:-0330
TZNAME:NST
DTSTART:20261101T043000
END:STANDARD
BEGIN:DAYLIGHT
TZOFFSETFROM:-0330
TZOFFSETTO:-0230
TZNAME:NDT
DTSTART:20270314T053000
END:DAYLIGHT
BEGIN:STANDARD
TZOFFSETFROM:-0230
TZOFFSETTO:-0330
TZNAME:NST
DTSTART:20271107T043000
END:STANDARD
BEGIN:DAYLIGHT
TZOFFSETFROM:-0330
TZOFFSETTO:-0230
TZNAME:NDT
DTSTART:20280312T053000
END:DAYLIGHT
BEGIN:STANDARD
TZOFFSETFROM:-0230
TZOFFSETTO:-0330
TZNAME:NST
DTSTART:20281105T043000
END:STANDARD
END:VTIMEZONE
BEGIN:VEVENT
DTSTART;TZID=America/St_Johns:20270503T093000
DTEND;TZID=America/St_Johns:20270503T103000
DTSTAMP:20260424T121730
CREATED:20260331T135417Z
LAST-MODIFIED:20260331T135417Z
UID:10005346-1809336600-1809340200@lbmcoc.ca
SUMMARY:Fun & Fit
DESCRIPTION:
URL:https://lbmcoc.ca/event/fun-fit/2027-05-03/
LOCATION:Justina Centre\, 108 Outer Cove Rd\, Outer Cove\, NL\, A1K 4E1
END:VEVENT
BEGIN:VEVENT
DTSTART;TZID=America/St_Johns:20270504T093000
DTEND;TZID=America/St_Johns:20270504T103000
DTSTAMP:20260424T121730
CREATED:20260331T135613Z
LAST-MODIFIED:20260331T135613Z
UID:10005404-1809423000-1809426600@lbmcoc.ca
SUMMARY:Yoga
DESCRIPTION:
URL:https://lbmcoc.ca/event/yoga/2027-05-04/
END:VEVENT
BEGIN:VEVENT
DTSTART;TZID=America/St_Johns:20270506T093000
DTEND;TZID=America/St_Johns:20270506T103000
DTSTAMP:20260424T121730
CREATED:20260331T135710Z
LAST-MODIFIED:20260331T135710Z
UID:10005462-1809595800-1809599400@lbmcoc.ca
SUMMARY:Yoga
DESCRIPTION:
URL:https://lbmcoc.ca/event/yoga-2/2027-05-06/
END:VEVENT
BEGIN:VEVENT
DTSTART;TZID=America/St_Johns:20270510T093000
DTEND;TZID=America/St_Johns:20270510T103000
DTSTAMP:20260424T121730
CREATED:20260331T135417Z
LAST-MODIFIED:20260331T135417Z
UID:10005347-1809941400-1809945000@lbmcoc.ca
SUMMARY:Fun & Fit
DESCRIPTION:
URL:https://lbmcoc.ca/event/fun-fit/2027-05-10/
LOCATION:Justina Centre\, 108 Outer Cove Rd\, Outer Cove\, NL\, A1K 4E1
END:VEVENT
BEGIN:VEVENT
DTSTART;TZID=America/St_Johns:20270511T093000
DTEND;TZID=America/St_Johns:20270511T103000
DTSTAMP:20260424T121730
CREATED:20260331T135613Z
LAST-MODIFIED:20260331T135613Z
UID:10005405-1810027800-1810031400@lbmcoc.ca
SUMMARY:Yoga
DESCRIPTION:
URL:https://lbmcoc.ca/event/yoga/2027-05-11/
END:VEVENT
BEGIN:VEVENT
DTSTART;TZID=America/St_Johns:20270513T093000
DTEND;TZID=America/St_Johns:20270513T103000
DTSTAMP:20260424T121730
CREATED:20260331T135710Z
LAST-MODIFIED:20260331T135710Z
UID:10005463-1810200600-1810204200@lbmcoc.ca
SUMMARY:Yoga
DESCRIPTION:
URL:https://lbmcoc.ca/event/yoga-2/2027-05-13/
END:VEVENT
END:VCALENDAR