BEGIN:VCALENDAR
VERSION:2.0
PRODID:-//Logy Bay - Middle Cove - Outer Cove - ECPv6.15.19//NONSGML v1.0//EN
CALSCALE:GREGORIAN
METHOD:PUBLISH
X-ORIGINAL-URL:https://lbmcoc.ca
X-WR-CALDESC:Events for Logy Bay - Middle Cove - Outer Cove
REFRESH-INTERVAL;VALUE=DURATION:PT1H
X-Robots-Tag:noindex
X-PUBLISHED-TTL:PT1H
BEGIN:VTIMEZONE
TZID:America/St_Johns
BEGIN:DAYLIGHT
TZOFFSETFROM:-0330
TZOFFSETTO:-0230
TZNAME:NDT
DTSTART:20250309T053000
END:DAYLIGHT
BEGIN:STANDARD
TZOFFSETFROM:-0230
TZOFFSETTO:-0330
TZNAME:NST
DTSTART:20251102T043000
END:STANDARD
BEGIN:DAYLIGHT
TZOFFSETFROM:-0330
TZOFFSETTO:-0230
TZNAME:NDT
DTSTART:20260308T053000
END:DAYLIGHT
BEGIN:STANDARD
TZOFFSETFROM:-0230
TZOFFSETTO:-0330
TZNAME:NST
DTSTART:20261101T043000
END:STANDARD
BEGIN:DAYLIGHT
TZOFFSETFROM:-0330
TZOFFSETTO:-0230
TZNAME:NDT
DTSTART:20270314T053000
END:DAYLIGHT
BEGIN:STANDARD
TZOFFSETFROM:-0230
TZOFFSETTO:-0330
TZNAME:NST
DTSTART:20271107T043000
END:STANDARD
END:VTIMEZONE
BEGIN:VEVENT
DTSTART;TZID=America/St_Johns:20261102T093000
DTEND;TZID=America/St_Johns:20261102T103000
DTSTAMP:20260423T202418
CREATED:20260331T135417Z
LAST-MODIFIED:20260331T135417Z
UID:10005320-1793611800-1793615400@lbmcoc.ca
SUMMARY:Fun & Fit
DESCRIPTION:
URL:https://lbmcoc.ca/event/fun-fit/2026-11-02/
LOCATION:Justina Centre\, 108 Outer Cove Rd\, Outer Cove\, NL\, A1K 4E1
END:VEVENT
BEGIN:VEVENT
DTSTART;TZID=America/St_Johns:20261103T093000
DTEND;TZID=America/St_Johns:20261103T103000
DTSTAMP:20260423T202418
CREATED:20260331T135613Z
LAST-MODIFIED:20260331T135613Z
UID:10005378-1793698200-1793701800@lbmcoc.ca
SUMMARY:Yoga
DESCRIPTION:
URL:https://lbmcoc.ca/event/yoga/2026-11-03/
LOCATION:Newfoundland and Labrador
END:VEVENT
BEGIN:VEVENT
DTSTART;TZID=America/St_Johns:20261105T093000
DTEND;TZID=America/St_Johns:20261105T103000
DTSTAMP:20260423T202418
CREATED:20260331T135710Z
LAST-MODIFIED:20260331T135710Z
UID:10005436-1793871000-1793874600@lbmcoc.ca
SUMMARY:Yoga
DESCRIPTION:
URL:https://lbmcoc.ca/event/yoga-2/2026-11-05/
LOCATION:Newfoundland and Labrador
END:VEVENT
BEGIN:VEVENT
DTSTART;TZID=America/St_Johns:20261109T093000
DTEND;TZID=America/St_Johns:20261109T103000
DTSTAMP:20260423T202418
CREATED:20260331T135417Z
LAST-MODIFIED:20260331T135417Z
UID:10005321-1794216600-1794220200@lbmcoc.ca
SUMMARY:Fun & Fit
DESCRIPTION:
URL:https://lbmcoc.ca/event/fun-fit/2026-11-09/
LOCATION:Justina Centre\, 108 Outer Cove Rd\, Outer Cove\, NL\, A1K 4E1
END:VEVENT
BEGIN:VEVENT
DTSTART;TZID=America/St_Johns:20261110T093000
DTEND;TZID=America/St_Johns:20261110T103000
DTSTAMP:20260423T202418
CREATED:20260331T135613Z
LAST-MODIFIED:20260331T135613Z
UID:10005379-1794303000-1794306600@lbmcoc.ca
SUMMARY:Yoga
DESCRIPTION:
URL:https://lbmcoc.ca/event/yoga/2026-11-10/
LOCATION:Newfoundland and Labrador
END:VEVENT
BEGIN:VEVENT
DTSTART;TZID=America/St_Johns:20261112T093000
DTEND;TZID=America/St_Johns:20261112T103000
DTSTAMP:20260423T202419
CREATED:20260331T135710Z
LAST-MODIFIED:20260331T135710Z
UID:10005437-1794475800-1794479400@lbmcoc.ca
SUMMARY:Yoga
DESCRIPTION:
URL:https://lbmcoc.ca/event/yoga-2/2026-11-12/
LOCATION:Newfoundland and Labrador
END:VEVENT
BEGIN:VEVENT
DTSTART;TZID=America/St_Johns:20261116T093000
DTEND;TZID=America/St_Johns:20261116T103000
DTSTAMP:20260423T202419
CREATED:20260331T135417Z
LAST-MODIFIED:20260331T135417Z
UID:10005322-1794821400-1794825000@lbmcoc.ca
SUMMARY:Fun & Fit
DESCRIPTION:
URL:https://lbmcoc.ca/event/fun-fit/2026-11-16/
LOCATION:Justina Centre\, 108 Outer Cove Rd\, Outer Cove\, NL\, A1K 4E1
END:VEVENT
BEGIN:VEVENT
DTSTART;TZID=America/St_Johns:20261117T093000
DTEND;TZID=America/St_Johns:20261117T103000
DTSTAMP:20260423T202419
CREATED:20260331T135613Z
LAST-MODIFIED:20260331T135613Z
UID:10005380-1794907800-1794911400@lbmcoc.ca
SUMMARY:Yoga
DESCRIPTION:
URL:https://lbmcoc.ca/event/yoga/2026-11-17/
LOCATION:Newfoundland and Labrador
END:VEVENT
BEGIN:VEVENT
DTSTART;TZID=America/St_Johns:20261119T093000
DTEND;TZID=America/St_Johns:20261119T103000
DTSTAMP:20260423T202419
CREATED:20260331T135710Z
LAST-MODIFIED:20260331T135710Z
UID:10005438-1795080600-1795084200@lbmcoc.ca
SUMMARY:Yoga
DESCRIPTION:
URL:https://lbmcoc.ca/event/yoga-2/2026-11-19/
LOCATION:Newfoundland and Labrador
END:VEVENT
BEGIN:VEVENT
DTSTART;TZID=America/St_Johns:20261123T093000
DTEND;TZID=America/St_Johns:20261123T103000
DTSTAMP:20260423T202419
CREATED:20260331T135417Z
LAST-MODIFIED:20260331T135417Z
UID:10005323-1795426200-1795429800@lbmcoc.ca
SUMMARY:Fun & Fit
DESCRIPTION:
URL:https://lbmcoc.ca/event/fun-fit/2026-11-23/
LOCATION:Justina Centre\, 108 Outer Cove Rd\, Outer Cove\, NL\, A1K 4E1
END:VEVENT
BEGIN:VEVENT
DTSTART;TZID=America/St_Johns:20261124T093000
DTEND;TZID=America/St_Johns:20261124T103000
DTSTAMP:20260423T202419
CREATED:20260331T135613Z
LAST-MODIFIED:20260331T135613Z
UID:10005381-1795512600-1795516200@lbmcoc.ca
SUMMARY:Yoga
DESCRIPTION:
URL:https://lbmcoc.ca/event/yoga/2026-11-24/
LOCATION:Newfoundland and Labrador
END:VEVENT
BEGIN:VEVENT
DTSTART;TZID=America/St_Johns:20261126T093000
DTEND;TZID=America/St_Johns:20261126T103000
DTSTAMP:20260423T202419
CREATED:20260331T135710Z
LAST-MODIFIED:20260331T135710Z
UID:10005439-1795685400-1795689000@lbmcoc.ca
SUMMARY:Yoga
DESCRIPTION:
URL:https://lbmcoc.ca/event/yoga-2/2026-11-26/
LOCATION:Newfoundland and Labrador
END:VEVENT
BEGIN:VEVENT
DTSTART;TZID=America/St_Johns:20261130T093000
DTEND;TZID=America/St_Johns:20261130T103000
DTSTAMP:20260423T202419
CREATED:20260331T135417Z
LAST-MODIFIED:20260331T135417Z
UID:10005324-1796031000-1796034600@lbmcoc.ca
SUMMARY:Fun & Fit
DESCRIPTION:
URL:https://lbmcoc.ca/event/fun-fit/2026-11-30/
LOCATION:Justina Centre\, 108 Outer Cove Rd\, Outer Cove\, NL\, A1K 4E1
END:VEVENT
END:VCALENDAR