BEGIN:VCALENDAR
VERSION:2.0
PRODID:-//Logy Bay - Middle Cove - Outer Cove - ECPv6.15.19//NONSGML v1.0//EN
CALSCALE:GREGORIAN
METHOD:PUBLISH
X-WR-CALNAME:Logy Bay - Middle Cove - Outer Cove
X-ORIGINAL-URL:https://lbmcoc.ca
X-WR-CALDESC:Events for Logy Bay - Middle Cove - Outer Cove
REFRESH-INTERVAL;VALUE=DURATION:PT1H
X-Robots-Tag:noindex
X-PUBLISHED-TTL:PT1H
BEGIN:VTIMEZONE
TZID:America/St_Johns
BEGIN:DAYLIGHT
TZOFFSETFROM:-0330
TZOFFSETTO:-0230
TZNAME:NDT
DTSTART:20250309T053000
END:DAYLIGHT
BEGIN:STANDARD
TZOFFSETFROM:-0230
TZOFFSETTO:-0330
TZNAME:NST
DTSTART:20251102T043000
END:STANDARD
BEGIN:DAYLIGHT
TZOFFSETFROM:-0330
TZOFFSETTO:-0230
TZNAME:NDT
DTSTART:20260308T053000
END:DAYLIGHT
BEGIN:STANDARD
TZOFFSETFROM:-0230
TZOFFSETTO:-0330
TZNAME:NST
DTSTART:20261101T043000
END:STANDARD
BEGIN:DAYLIGHT
TZOFFSETFROM:-0330
TZOFFSETTO:-0230
TZNAME:NDT
DTSTART:20270314T053000
END:DAYLIGHT
BEGIN:STANDARD
TZOFFSETFROM:-0230
TZOFFSETTO:-0330
TZNAME:NST
DTSTART:20271107T043000
END:STANDARD
END:VTIMEZONE
BEGIN:VEVENT
DTSTART;TZID=America/St_Johns:20260428T093000
DTEND;TZID=America/St_Johns:20260428T103000
DTSTAMP:20260423T113430
CREATED:20260331T135613Z
LAST-MODIFIED:20260331T135613Z
UID:10005351-1777368600-1777372200@lbmcoc.ca
SUMMARY:Yoga
DESCRIPTION:
URL:https://lbmcoc.ca/event/yoga/2026-04-28/
END:VEVENT
BEGIN:VEVENT
DTSTART;TZID=America/St_Johns:20260505T093000
DTEND;TZID=America/St_Johns:20260505T103000
DTSTAMP:20260423T113430
CREATED:20260331T135613Z
LAST-MODIFIED:20260331T135613Z
UID:10005352-1777973400-1777977000@lbmcoc.ca
SUMMARY:Yoga
DESCRIPTION:
URL:https://lbmcoc.ca/event/yoga/2026-05-05/
END:VEVENT
BEGIN:VEVENT
DTSTART;TZID=America/St_Johns:20260512T093000
DTEND;TZID=America/St_Johns:20260512T103000
DTSTAMP:20260423T113430
CREATED:20260331T135613Z
LAST-MODIFIED:20260331T135613Z
UID:10005353-1778578200-1778581800@lbmcoc.ca
SUMMARY:Yoga
DESCRIPTION:
URL:https://lbmcoc.ca/event/yoga/2026-05-12/
END:VEVENT
BEGIN:VEVENT
DTSTART;TZID=America/St_Johns:20260519T093000
DTEND;TZID=America/St_Johns:20260519T103000
DTSTAMP:20260423T113430
CREATED:20260331T135613Z
LAST-MODIFIED:20260331T135613Z
UID:10005354-1779183000-1779186600@lbmcoc.ca
SUMMARY:Yoga
DESCRIPTION:
URL:https://lbmcoc.ca/event/yoga/2026-05-19/
END:VEVENT
BEGIN:VEVENT
DTSTART;TZID=America/St_Johns:20260526T093000
DTEND;TZID=America/St_Johns:20260526T103000
DTSTAMP:20260423T113430
CREATED:20260331T135613Z
LAST-MODIFIED:20260331T135613Z
UID:10005355-1779787800-1779791400@lbmcoc.ca
SUMMARY:Yoga
DESCRIPTION:
URL:https://lbmcoc.ca/event/yoga/2026-05-26/
END:VEVENT
BEGIN:VEVENT
DTSTART;TZID=America/St_Johns:20260602T093000
DTEND;TZID=America/St_Johns:20260602T103000
DTSTAMP:20260423T113430
CREATED:20260331T135613Z
LAST-MODIFIED:20260331T135613Z
UID:10005356-1780392600-1780396200@lbmcoc.ca
SUMMARY:Yoga
DESCRIPTION:
URL:https://lbmcoc.ca/event/yoga/2026-06-02/
END:VEVENT
BEGIN:VEVENT
DTSTART;TZID=America/St_Johns:20260609T093000
DTEND;TZID=America/St_Johns:20260609T103000
DTSTAMP:20260423T113430
CREATED:20260331T135613Z
LAST-MODIFIED:20260331T135613Z
UID:10005357-1780997400-1781001000@lbmcoc.ca
SUMMARY:Yoga
DESCRIPTION:
URL:https://lbmcoc.ca/event/yoga/2026-06-09/
END:VEVENT
BEGIN:VEVENT
DTSTART;TZID=America/St_Johns:20260616T093000
DTEND;TZID=America/St_Johns:20260616T103000
DTSTAMP:20260423T113430
CREATED:20260331T135613Z
LAST-MODIFIED:20260331T135613Z
UID:10005358-1781602200-1781605800@lbmcoc.ca
SUMMARY:Yoga
DESCRIPTION:
URL:https://lbmcoc.ca/event/yoga/2026-06-16/
END:VEVENT
BEGIN:VEVENT
DTSTART;TZID=America/St_Johns:20260623T093000
DTEND;TZID=America/St_Johns:20260623T103000
DTSTAMP:20260423T113430
CREATED:20260331T135613Z
LAST-MODIFIED:20260331T135613Z
UID:10005359-1782207000-1782210600@lbmcoc.ca
SUMMARY:Yoga
DESCRIPTION:
URL:https://lbmcoc.ca/event/yoga/2026-06-23/
END:VEVENT
BEGIN:VEVENT
DTSTART;TZID=America/St_Johns:20260630T093000
DTEND;TZID=America/St_Johns:20260630T103000
DTSTAMP:20260423T113430
CREATED:20260331T135613Z
LAST-MODIFIED:20260331T135613Z
UID:10005360-1782811800-1782815400@lbmcoc.ca
SUMMARY:Yoga
DESCRIPTION:
URL:https://lbmcoc.ca/event/yoga/2026-06-30/
END:VEVENT
BEGIN:VEVENT
DTSTART;TZID=America/St_Johns:20260707T093000
DTEND;TZID=America/St_Johns:20260707T103000
DTSTAMP:20260423T113430
CREATED:20260331T135613Z
LAST-MODIFIED:20260331T135613Z
UID:10005361-1783416600-1783420200@lbmcoc.ca
SUMMARY:Yoga
DESCRIPTION:
URL:https://lbmcoc.ca/event/yoga/2026-07-07/
END:VEVENT
BEGIN:VEVENT
DTSTART;TZID=America/St_Johns:20260714T093000
DTEND;TZID=America/St_Johns:20260714T103000
DTSTAMP:20260423T113430
CREATED:20260331T135613Z
LAST-MODIFIED:20260331T135613Z
UID:10005362-1784021400-1784025000@lbmcoc.ca
SUMMARY:Yoga
DESCRIPTION:
URL:https://lbmcoc.ca/event/yoga/2026-07-14/
END:VEVENT
BEGIN:VEVENT
DTSTART;TZID=America/St_Johns:20260721T093000
DTEND;TZID=America/St_Johns:20260721T103000
DTSTAMP:20260423T113430
CREATED:20260331T135613Z
LAST-MODIFIED:20260331T135613Z
UID:10005363-1784626200-1784629800@lbmcoc.ca
SUMMARY:Yoga
DESCRIPTION:
URL:https://lbmcoc.ca/event/yoga/2026-07-21/
END:VEVENT
BEGIN:VEVENT
DTSTART;TZID=America/St_Johns:20260728T093000
DTEND;TZID=America/St_Johns:20260728T103000
DTSTAMP:20260423T113430
CREATED:20260331T135613Z
LAST-MODIFIED:20260331T135613Z
UID:10005364-1785231000-1785234600@lbmcoc.ca
SUMMARY:Yoga
DESCRIPTION:
URL:https://lbmcoc.ca/event/yoga/2026-07-28/
END:VEVENT
BEGIN:VEVENT
DTSTART;TZID=America/St_Johns:20260804T093000
DTEND;TZID=America/St_Johns:20260804T103000
DTSTAMP:20260423T113430
CREATED:20260331T135613Z
LAST-MODIFIED:20260331T135613Z
UID:10005365-1785835800-1785839400@lbmcoc.ca
SUMMARY:Yoga
DESCRIPTION:
URL:https://lbmcoc.ca/event/yoga/2026-08-04/
END:VEVENT
BEGIN:VEVENT
DTSTART;TZID=America/St_Johns:20260811T093000
DTEND;TZID=America/St_Johns:20260811T103000
DTSTAMP:20260423T113430
CREATED:20260331T135613Z
LAST-MODIFIED:20260331T135613Z
UID:10005366-1786440600-1786444200@lbmcoc.ca
SUMMARY:Yoga
DESCRIPTION:
URL:https://lbmcoc.ca/event/yoga/2026-08-11/
END:VEVENT
BEGIN:VEVENT
DTSTART;TZID=America/St_Johns:20260818T093000
DTEND;TZID=America/St_Johns:20260818T103000
DTSTAMP:20260423T113430
CREATED:20260331T135613Z
LAST-MODIFIED:20260331T135613Z
UID:10005367-1787045400-1787049000@lbmcoc.ca
SUMMARY:Yoga
DESCRIPTION:
URL:https://lbmcoc.ca/event/yoga/2026-08-18/
END:VEVENT
BEGIN:VEVENT
DTSTART;TZID=America/St_Johns:20260825T093000
DTEND;TZID=America/St_Johns:20260825T103000
DTSTAMP:20260423T113430
CREATED:20260331T135613Z
LAST-MODIFIED:20260331T135613Z
UID:10005368-1787650200-1787653800@lbmcoc.ca
SUMMARY:Yoga
DESCRIPTION:
URL:https://lbmcoc.ca/event/yoga/2026-08-25/
END:VEVENT
BEGIN:VEVENT
DTSTART;TZID=America/St_Johns:20260901T093000
DTEND;TZID=America/St_Johns:20260901T103000
DTSTAMP:20260423T113430
CREATED:20260331T135613Z
LAST-MODIFIED:20260331T135613Z
UID:10005369-1788255000-1788258600@lbmcoc.ca
SUMMARY:Yoga
DESCRIPTION:
URL:https://lbmcoc.ca/event/yoga/2026-09-01/
END:VEVENT
BEGIN:VEVENT
DTSTART;TZID=America/St_Johns:20260908T093000
DTEND;TZID=America/St_Johns:20260908T103000
DTSTAMP:20260423T113430
CREATED:20260331T135613Z
LAST-MODIFIED:20260331T135613Z
UID:10005370-1788859800-1788863400@lbmcoc.ca
SUMMARY:Yoga
DESCRIPTION:
URL:https://lbmcoc.ca/event/yoga/2026-09-08/
END:VEVENT
BEGIN:VEVENT
DTSTART;TZID=America/St_Johns:20260915T093000
DTEND;TZID=America/St_Johns:20260915T103000
DTSTAMP:20260423T113430
CREATED:20260331T135613Z
LAST-MODIFIED:20260331T135613Z
UID:10005371-1789464600-1789468200@lbmcoc.ca
SUMMARY:Yoga
DESCRIPTION:
URL:https://lbmcoc.ca/event/yoga/2026-09-15/
END:VEVENT
BEGIN:VEVENT
DTSTART;TZID=America/St_Johns:20260922T093000
DTEND;TZID=America/St_Johns:20260922T103000
DTSTAMP:20260423T113430
CREATED:20260331T135613Z
LAST-MODIFIED:20260331T135613Z
UID:10005372-1790069400-1790073000@lbmcoc.ca
SUMMARY:Yoga
DESCRIPTION:
URL:https://lbmcoc.ca/event/yoga/2026-09-22/
END:VEVENT
BEGIN:VEVENT
DTSTART;TZID=America/St_Johns:20260929T093000
DTEND;TZID=America/St_Johns:20260929T103000
DTSTAMP:20260423T113430
CREATED:20260331T135613Z
LAST-MODIFIED:20260331T135613Z
UID:10005373-1790674200-1790677800@lbmcoc.ca
SUMMARY:Yoga
DESCRIPTION:
URL:https://lbmcoc.ca/event/yoga/2026-09-29/
END:VEVENT
BEGIN:VEVENT
DTSTART;TZID=America/St_Johns:20261006T093000
DTEND;TZID=America/St_Johns:20261006T103000
DTSTAMP:20260423T113430
CREATED:20260331T135613Z
LAST-MODIFIED:20260331T135613Z
UID:10005374-1791279000-1791282600@lbmcoc.ca
SUMMARY:Yoga
DESCRIPTION:
URL:https://lbmcoc.ca/event/yoga/2026-10-06/
END:VEVENT
BEGIN:VEVENT
DTSTART;TZID=America/St_Johns:20261013T093000
DTEND;TZID=America/St_Johns:20261013T103000
DTSTAMP:20260423T113430
CREATED:20260331T135613Z
LAST-MODIFIED:20260331T135613Z
UID:10005375-1791883800-1791887400@lbmcoc.ca
SUMMARY:Yoga
DESCRIPTION:
URL:https://lbmcoc.ca/event/yoga/2026-10-13/
END:VEVENT
BEGIN:VEVENT
DTSTART;TZID=America/St_Johns:20261020T093000
DTEND;TZID=America/St_Johns:20261020T103000
DTSTAMP:20260423T113430
CREATED:20260331T135613Z
LAST-MODIFIED:20260331T135613Z
UID:10005376-1792488600-1792492200@lbmcoc.ca
SUMMARY:Yoga
DESCRIPTION:
URL:https://lbmcoc.ca/event/yoga/2026-10-20/
END:VEVENT
BEGIN:VEVENT
DTSTART;TZID=America/St_Johns:20261027T093000
DTEND;TZID=America/St_Johns:20261027T103000
DTSTAMP:20260423T113430
CREATED:20260331T135613Z
LAST-MODIFIED:20260331T135613Z
UID:10005377-1793093400-1793097000@lbmcoc.ca
SUMMARY:Yoga
DESCRIPTION:
URL:https://lbmcoc.ca/event/yoga/2026-10-27/
END:VEVENT
BEGIN:VEVENT
DTSTART;TZID=America/St_Johns:20261103T093000
DTEND;TZID=America/St_Johns:20261103T103000
DTSTAMP:20260423T113430
CREATED:20260331T135613Z
LAST-MODIFIED:20260331T135613Z
UID:10005378-1793698200-1793701800@lbmcoc.ca
SUMMARY:Yoga
DESCRIPTION:
URL:https://lbmcoc.ca/event/yoga/2026-11-03/
END:VEVENT
BEGIN:VEVENT
DTSTART;TZID=America/St_Johns:20261110T093000
DTEND;TZID=America/St_Johns:20261110T103000
DTSTAMP:20260423T113430
CREATED:20260331T135613Z
LAST-MODIFIED:20260331T135613Z
UID:10005379-1794303000-1794306600@lbmcoc.ca
SUMMARY:Yoga
DESCRIPTION:
URL:https://lbmcoc.ca/event/yoga/2026-11-10/
END:VEVENT
BEGIN:VEVENT
DTSTART;TZID=America/St_Johns:20261117T093000
DTEND;TZID=America/St_Johns:20261117T103000
DTSTAMP:20260423T113430
CREATED:20260331T135613Z
LAST-MODIFIED:20260331T135613Z
UID:10005380-1794907800-1794911400@lbmcoc.ca
SUMMARY:Yoga
DESCRIPTION:
URL:https://lbmcoc.ca/event/yoga/2026-11-17/
END:VEVENT
END:VCALENDAR